BEGIN:VCALENDAR
PRODID:NingEventWidget-v1
VERSION:2.0
METHOD:PUBLISH
BEGIN:VEVENT
UID:1791588:Event:156523
DTSTAMP:20260422T003324Z
SUMMARY:NYU’s Clinical Imaging Symposium in Hualalai 2015
DESCRIPTION:Lecture topics to include: Thoracic, Neuroradiology, Breas
 t Imaging, Musculoskeletal and Emergency Imaging. Please visit our web
 site for more information http://www.med.nyu.edu/courses/cme/hawaii15\
 n\nFor more information visit https://community.radrounds.com/events/n
 yu-s-clinical-imaging-symposium-in-hualalai-2015
DTSTART:20150202T120000Z
DTEND:20150206T180000Z
CATEGORIES:radiology, cme, symposium
LOCATION:The Big Island, Kona, Hawaii - Four Seasons Resort
WEBSITE:http://www.med.nyu.edu/courses/cme/hawaii15
URL:http://www.med.nyu.edu/courses/cme/hawaii15
CONTACT:212-263-0724
ORGANIZER:Marisa Costello or Michelle Koplik
ATTACH;FMTTYPE="image/jpeg":
ATTENDEE;ROLE=REQ-PARTICIPANT;PARTSTAT=ACCEPTED;RSVP=TRUE;CN="Marisa C
 ostello":https://community.radrounds.com/profile/MarisaCostello
END:VEVENT
END:VCALENDAR
