BEGIN:VCALENDAR
PRODID:NingEventWidget-v1
VERSION:2.0
METHOD:PUBLISH
BEGIN:VEVENT
UID:1791588:Event:115599
DTSTAMP:20260425T064541Z
SUMMARY:NYU Clinical Imaging Symposium in Maui
DESCRIPTION:NYU Clinical Imaging Symposium in Maui Monday, January 23,
  2012 - Friday, January 27, 2012The Fairmont Kea Lani Maui, Hawaii (HI
 ), United StatesProvided by NYU Langone Medical Center  CME Provider: 
 NYU Langone Medical Center Department of Radiology462 First AvenueOBH 
 C&D, 1st Floor, Room 4New York, New York (NY) 10016United States\nPhon
 e: (212) 263-3936Fax: (212) 263-3959\n\nConference Center:The Fairmont
  Kea Lani 4100 Wailea Alanui DriveMaui, Hawaii (HI) 96753United States
 \nToll Free: (866) 540-4456Phone: (808) 875-4100Fax: (808) 875-1200\nD
 escription:NYU is excited to announce that we will be returning to Mau
 i and staying at the Fairmont Kea Lani, January 23-27, 2012.\nThis bea
 utiful and newly renovated ALL-Suite ocean-front resort will be a perf
 ect setting for our winter CME 2012! This Maui property rests graceful
 ly on Polo Beach, situated on the sunny southwest shores of Wailea, Ha
 waii!\nFor more information, please email marisa.bruno@nyumc.org\nSelf
  Assessment Module (SAM): No\nInstructors:bennett, moy, shiau, bernste
 in, moore\nSpecialty Audience:Radiology\n\nFor more information visit 
 https://community.radrounds.com/events/nyu-clinical-imaging-symposium-
 in-maui
DTSTART:20120123T050000Z
DTEND:20120128T045900Z
CATEGORIES:radiology
LOCATION:The Fairmont Kea Lani
WEBSITE:http://www.fairmont.com/kealani
URL:http://www.fairmont.com/kealani
CONTACT:(808) 875-4100
ORGANIZER:NYU Langone Medical Center
ATTACH;FMTTYPE="image/jpeg":
ATTENDEE;ROLE=REQ-PARTICIPANT;PARTSTAT=ACCEPTED;RSVP=TRUE;CN="radRound
 s Radiology Events":https://community.radrounds.com/profile/radRoundsR
 adiologyEvents
END:VEVENT
END:VCALENDAR
