BEGIN:VCALENDAR
PRODID:NingEventWidget-v1
VERSION:2.0
METHOD:PUBLISH
BEGIN:VEVENT
UID:1791588:Event:123280
DTSTAMP:20260421T121535Z
SUMMARY:Nuts and Bolts of Bone Densitometry
DESCRIPTION:Preparing for your registry? Bone densitometry has evolved
  from an interesting test, prior to medications prescribed for Osteopo
 rosis and Osteopenia, to a diagnostic exam that is significant in the 
 treatment and diagnosis of millions of people. This course contains in
 formation corresponding to the content of the ARRT advanced level cert
 ification in Bone Densitometry and clarifies the important information
  specified by the Bone Density Society as being “must know” fundam
 entals.\n\nFor more information visit https://community.radrounds.com/
 events/nuts-and-bolts-of-bone-densitometry
DTSTART:20120908T120000Z
DTEND:20120908T201500Z
CATEGORIES:ce, course
LOCATION:Holiday Inn Select Airport
WEBSITE:http://store.aheconline.com/DisplayDetail.aspx?pid=7345
URL:http://store.aheconline.com/DisplayDetail.aspx?pid=7345
CONTACT:800-239-1361
ORGANIZER:Advanced Health Education Center
ATTACH;FMTTYPE="image/jpeg":
ATTENDEE;ROLE=REQ-PARTICIPANT;PARTSTAT=ACCEPTED;RSVP=TRUE;CN="Larry Ca
 rney":https://community.radrounds.com/profile/LarryCarney
END:VEVENT
END:VCALENDAR
