BEGIN:VCALENDAR
PRODID:NingEventWidget-v1
VERSION:2.0
METHOD:PUBLISH
BEGIN:VEVENT
UID:1791588:Event:73210
DTSTAMP:20260425T190603Z
SUMMARY:Nuchal Translucency Education & Quality Monitoring Program
DESCRIPTION:Nuchal Translucency Education & Quality Monitoring Program
 \nNovember 4-4, 2011\nChicago, IL\n\nMore information coming soon.\n\n
 Hotel\nThe Westin Chicago River North\n320 North Dearborn St.\nChicago
 , IL 60654\nRate: $259\n10/14/2011 - 5pm\n312-744-1900\nhttp://www.sta
 rwoodhotels.com/westin/search/pre_decider_all.html?propertyID=1031&ES=
 TMH_WI_FWestinChicagoNorth_103\n\nGuest rooms feature Westin's insanel
 y comfortable Heavenly Bed® and invigorating Heavenly Bath®, as well
  as splendid views of the Chicago skyline or the Chicago River. Relax 
 in luxurious surroundings with all the amenities in an ideal central l
 ocation. Please specify that you will be attending the IAME meeting wh
 en making your reservations. Our block is based on a limited number of
  rooms. Neither IAME nor the hotel can guarantee that these rooms will
  not sell out prior to the stated deadlines. To avoid disappointment, 
 we encourage you to book early.\n\nFor more information visit https://
 community.radrounds.com/events/nuchal-translucency-education-1
DTSTART:20111104T040000Z
DTEND:20111105T035900Z
CATEGORIES:quality, monitoring, program
LOCATION:The Westin Chicago River North
WEBSITE:https://iame.com/conferences/conferences.php
URL:https://iame.com/conferences/conferences.php
CONTACT:
ORGANIZER:Institute for Advanced Medical Education (IAME)
ATTACH;FMTTYPE="image/jpeg":
ATTENDEE;ROLE=REQ-PARTICIPANT;PARTSTAT=ACCEPTED;RSVP=TRUE;CN="radRound
 s Radiology Events":https://community.radrounds.com/profile/radRoundsR
 adiologyEvents
END:VEVENT
END:VCALENDAR
