BEGIN:VCALENDAR
PRODID:NingEventWidget-v1
VERSION:2.0
METHOD:PUBLISH
BEGIN:VEVENT
UID:1791588:Event:95499
DTSTAMP:20260422T131907Z
SUMMARY:New Course in San Diego, CA! Ultrasound for Critical Care and 
 Advanced Emergency Applications
DESCRIPTION:At the completion of this program, the participant should 
 be able to:\nDiscuss the basic fundamentals of ultrasound physics/inst
 rumentation and recognize image artifacts.\nDemonstrate the operation 
 of the ultrasound system controls and transducer selection.\nPerform r
 outine scan protocols for evaluation of the abdomen, lower extremity D
 VT, and adult heart.\nRecognize normal/abnormal image characteristics 
 of the abdomen, thorax, lower extremity venous system, and adult heart
 .\nRecognize normal cardiac structures and identify ultrasound finding
 s associated with cardiomyopathy, pericardial effusion, cardiogenic sh
 ock, dissection, and other hypotensive conditions.\nDescribe image ori
 entation, transducer preparation, and scan protocols for performing us
 e of ultrasound guidance in the placement of peripheral and central ve
 nous lines and arterial catheters.\nDemonstrate ultrasound application
 s in the evaluation of the critically ill unstable patient.\nExplain t
 he use of ultrasound guidance for performing thoracentesis, pericardio
 centesis and endotracheal tube placement.\nDescribe image orientation,
  transducer placement, and scan protocols for performing ultrasound fo
 r lung imaging and evaluation of Pneumothorax.\nExplain techniques for
  evaluating soft tissue/limited MSK, and testicular examinations (EM t
 rack only).\n\nCourse Topics:\nImaging Fundamentals Overview:\n2D Card
 iac Views\nEvaluation of Shock and Sepsis\nUltrasound-Guided Vascular 
 Access\nCase Studies\nFAST Overview + Abdominal Pathology\nCases: What
 ’s Your Diagnosis?\nUltrasound-Guided Procedures\nVenous Imaging\nBr
 eak-Out Groups: Putting It All Together: Case based\nHands-On Sessions
  (all partcipants)\nBreak-out Groups:\nCritical Care: Cardiac/Abdomen\
 nPericardial Effussions/Tamponade\nCardiomyopathies/lung Ultrasound\nM
 I and Complications\nAbdominal Scan techniques\nEmergency Ultrasound: 
 Soft Tissue/Scrotal/Advanced Abdominal\nSoft Tissue applications\nTest
 icular\nAdvanced Abdominal Cases\n\n\n\n\nFor more information visit h
 ttps://community.radrounds.com/events/new-course-in-san-diego-ca-ultra
 sound-for-critical-care-and
DTSTART:20120507T120000Z
DTEND:20120509T210000Z
CATEGORIES:course
LOCATION:Se San Diego Hotel
WEBSITE:http://gcus.com/detail.asp?MediaType=Program&MediaNumber=CCAE-
 121
URL:http://gcus.com/detail.asp?MediaType=Program&MediaNumber=CCAE-121
CONTACT:800-619-1900
ORGANIZER:Gulfcoast Ultrasound Institute
ATTACH;FMTTYPE="image/jpeg":http://storage.ning.com/topology/rest/1.0/
 file/get/1044731052?profile=original
ATTENDEE;ROLE=REQ-PARTICIPANT;PARTSTAT=ACCEPTED;RSVP=TRUE;CN="Casey Gr
 een":https://community.radrounds.com/profile/JamesSalame
END:VEVENT
END:VCALENDAR
