BEGIN:VCALENDAR
PRODID:NingEventWidget-v1
VERSION:2.0
METHOD:PUBLISH
BEGIN:VEVENT
UID:1791588:Event:172830
DTSTAMP:20260420T144313Z
SUMMARY:New Concerns for Imaging (Live Webinar)
DESCRIPTION:Course Topics\n\nImaging Modalities for Trauma\nTypes of C
 hild Abuse and Neglect Seen in Imaging\nThe Pediatric Patient Overview
 \nRadiation Protection\nTechnical Tips for Pediatrics\nImmobilization 
 and Sedation\nMost Common Trauma Injuries\nThe Medical Conditions and 
 Administration of Marijuana\nThe Drug, Plant, Industry and Activist\nF
 ederal Crackdown and Recreational Use Legalized\nRadiology's Response\
 n\n\nFor more information visit https://community.radrounds.com/events
 /new-concerns-for-imaging-live-webinar-2
DTSTART:20171218T230000Z
DTEND:20171219T013000Z
CATEGORIES:live, webinar
LOCATION:Advanced Health Education Center
WEBSITE:https://store.aheconline.com/index.php?route=product/product&p
 ath=59&product_id=2990
URL:https://store.aheconline.com/index.php?route=product/product&path=
 59&product_id=2990
CONTACT:800-239-1361
ORGANIZER;CN="Larry Carney":https://community.radrounds.com/profile/La
 rryCarney
ATTACH;FMTTYPE="image/jpeg":
ATTENDEE;ROLE=REQ-PARTICIPANT;PARTSTAT=ACCEPTED;RSVP=TRUE;CN="Larry Ca
 rney":https://community.radrounds.com/profile/LarryCarney
END:VEVENT
END:VCALENDAR
