BEGIN:VCALENDAR
PRODID:NingEventWidget-v1
VERSION:2.0
METHOD:PUBLISH
BEGIN:VEVENT
UID:1791588:Event:115827
DTSTAMP:20260424T213540Z
SUMMARY:New Approaches to Old Problems
DESCRIPTION:New Approaches to Old Problems Saturday, February 11, 2012
  - Saturday, February 11, 2012Holiday Inn Express Hotel & SuitesSherma
 n, Texas (TX), United StatesProvided by Advanced Health Education Cent
 er  CME Provider: Advanced Health Education Center 8502 Tybor DriveHou
 ston, Texas (TX) 77074United States\nToll Free: (800) 239-1361Phone: (
 713) 772-0157Fax: (713) 772-0155\n\nConference Center:Holiday Inn Expr
 ess Hotel & Suites2909 Michele DriveSherman, Texas (TX) 75902United St
 ates\nPhone: 903-892-3300\n Description:Who says you can’t teach an 
 old dog new tricks! Join us for a day of fun and learning from a talen
 ted presenter who will provide you new approaches to areas of concern 
 we all face in daily clinical practice. As experienced imaging profess
 ionals we all need tools and techniques to use when dealing with our e
 ver changing patient population and diverse physician specialties.Radi
 ation safety is a hot topic and an area of public interest. The media 
 coverage of recent events where patients have been exposed to excessiv
 e amounts of radiation during imaging procedures led to the public cam
 paigns of Imaging Wisely and Imaging and Gently. You will learn what y
 ou need to know to stay current in this important area and how to fiel
 d questions from your patients. Other topics of interest will include 
 tips on how to manage and diffuse angry situations, pet peeves of orth
 opedic surgeons and tips on how to improve your imaging techniques for
  scoliosis and kyphosis.\nCourse Topics • Image Gently: Kids, Low Do
 se, and the Radiology Department• Image Wisely - Radiation Safety in
  Adult Medical Imaging• Managing the Angry Situation• Orthopedic S
 urgeons Pet Peeves• Imaging Scoliosis and Kyphosis• Child Abuse: R
 adiographic Detection Basics\nSelf Assessment Module (SAM): No\nInstru
 ctors:Lois Lehman, R.T. (R), (CT)\nSpecialty Audience:Radiology\n\nFor
  more information visit https://community.radrounds.com/events/new-app
 roaches-to-old-problems
DTSTART:20120211T050000Z
DTEND:20120212T045900Z
CATEGORIES:radiology
LOCATION:Holiday Inn Express Hotel & Suites
WEBSITE:
URL:
CONTACT:903-892-3300
ORGANIZER:Advanced Health Education Center
ATTACH;FMTTYPE="image/jpeg":
ATTENDEE;ROLE=REQ-PARTICIPANT;PARTSTAT=ACCEPTED;RSVP=TRUE;CN="radRound
 s Radiology Events":https://community.radrounds.com/profile/radRoundsR
 adiologyEvents
END:VEVENT
END:VCALENDAR
