BEGIN:VCALENDAR
PRODID:NingEventWidget-v1
VERSION:2.0
METHOD:PUBLISH
BEGIN:VEVENT
UID:1791588:Event:116294
DTSTAMP:20260422T160804Z
SUMMARY:Neuroradiology
DESCRIPTION:Neuroradiology Thursday, June 07, 2012 - Saturday, June 09
 , 2012American College of Radiology (ACR) Reston, Virginia (VA), Unite
 d StatesProvided by American College of Radiology (ACR)  CME Provider:
  American College of Radiology (ACR) 1891 Preston White DriveReston, V
 irginia (VA) 20191United States\nToll Free: (800) 373-2204Phone: (800)
  373-2204\n\nConference Center:American College of Radiology (ACR) ACR
  Education Center1891 Preston White DriveReston, Virginia (VA) 20191Un
 ited States\nToll Free: (800) 373-2204Phone: (800) 373-2204\n Descript
 ion:This three-day neuroradiology course, led by neuroradiologist and 
 noted author David M. Yousem, includes the four domains of neuroradiol
 ogy in brain, spine, head and neck and pediatric neuroimaging. The mat
 erial will be nearly exclusively centered on CT and MR imaging with ad
 vanced application techniques. General disease categories of vascular,
  inflammatory, demyelinating, traumatic, degenerative, neoplastic, con
 genital, and metabolic diseases of the CNS and the head and neck in ad
 ults and children will be covered with case material. Four 30-minute l
 ectures each day will introduce common themes for differential diagnos
 es and lay the groundwork for extensive time devoted to reviewing a li
 brary of cases ranging in difficulty and disease type. Attendees can p
 ersonalize their course by selecting more cases from one subspecialty 
 area than another to remedy perceived weaknesses.\nSelf Assessment Mod
 ule (SAM): No\nInstructors:David Yousem, MD, MBADirector of Neuroradio
 logyThe Johns Hopkins HospitalBaltimore, MD\nSpecialty Audience:Radiol
 ogy\n\nFor more information visit https://community.radrounds.com/even
 ts/neuroradiology-1
DTSTART:20120607T040000Z
DTEND:20120610T035900Z
CATEGORIES:radiology
LOCATION:American College of Radiology (ACR)- ACR Education Center
WEBSITE:http://www.acr.org/educenter
URL:http://www.acr.org/educenter
CONTACT:(800) 373-2204
ORGANIZER:American College of Radiology (ACR)
ATTACH;FMTTYPE="image/jpeg":
ATTENDEE;ROLE=REQ-PARTICIPANT;PARTSTAT=ACCEPTED;RSVP=TRUE;CN="radRound
 s Radiology Events":https://community.radrounds.com/profile/radRoundsR
 adiologyEvents
END:VEVENT
END:VCALENDAR
