BEGIN:VCALENDAR
PRODID:NingEventWidget-v1
VERSION:2.0
METHOD:PUBLISH
BEGIN:VEVENT
UID:1791588:Event:172050
DTSTAMP:20260420T070656Z
SUMMARY:National Diagnostic Imaging Symposium 2017
DESCRIPTION:Register online at:\nhttp://www.worldclasscme.com/conferen
 ces/national-diagnostic-imaging-symposium4/\n\nBeing held December 3-7
 , 2017 at Disneyâ€™s Yacht Club Resort in Lake Buena Vista, Florida, â
 €śNational Diagnostic Imaging Symposiumâ€ť is an annual conference tha
 t has built a solid reputation among radiologists for its practical ye
 t forward-thinking curriculum, as well as the high caliber of its facu
 lty.Â  This conference is designed to improve the medical knowledge an
 d skills of community radiologists who are called on to be well-versed
  in a variety of radiology sub-specialties and body systems.Â  The cou
 rse will focus on emerging medical techniques, information and technol
 ogies, current medicine, as well as review of best practices in the fi
 eld of radiology. The program features simultaneous presentations cove
 ring ten subspecialties including Musculoskeletal Imaging, Breast Imag
 ing, Breast MRI, Gastrointestinal Radiology, Emergency Radiology, Geni
 tourinary Radiology, Cardiovascular Radiology, Chest Radiology, and Ne
 uroradiology.Â  One full day is dedicated to each modality and up to 3
 5 AMA PRA Category 1 Creditsâ„˘ are available.Â  Additionally, 26 Self
 -Assessment Modules (SAMs) will be offered.\nThis meeting has also bee
 n expanded to serve the needs of certain radiology specialists.Â  We n
 ow offer an optional 5-day Breast Imaging track that will allow partic
 ipants to receive up to 35 breast-imaging specific credits. Optional, 
 no-cost breast imaging workshops you may attend include Fundamentals o
 f Breast Tomosynthesis, Advanced Breast Tomosynthesis, Automated Breas
 t Ultrasound and Opto-acoustics.\nPricingÂ  Physician: $1395.00  Singl
 e Day: $695.00\n\nFor more information visit https://community.radroun
 ds.com/events/national-diagnostic-imaging-symposium-2017
DTSTART:20171203T050000Z
DTEND:20171208T045900Z
CATEGORIES:radiology, cme, diagnostic, imaging, musculoskeletal, mri, 
 breast, mammography, "women's", neuroradiology, ultrasound, sonography
 , conference, live, event
LOCATION:Disney's Yacht Club Resort
WEBSITE:https://disneyworld.disney.go.com/resorts/yacht-club-resort/
URL:https://disneyworld.disney.go.com/resorts/yacht-club-resort/
CONTACT:407-939-4686
ORGANIZER:World Class CME
ATTACH;FMTTYPE="image/jpeg":http://storage.ning.com/topology/rest/1.0/
 file/get/1044768736?profile=original
ATTENDEE;ROLE=REQ-PARTICIPANT;PARTSTAT=ACCEPTED;RSVP=TRUE;CN="JoAnn Co
 oke":https://community.radrounds.com/profile/JoAnnCooke
END:VEVENT
END:VCALENDAR
