BEGIN:VCALENDAR
PRODID:NingEventWidget-v1
VERSION:2.0
METHOD:PUBLISH
BEGIN:VEVENT
UID:1791588:Event:160435
DTSTAMP:20260421T060538Z
SUMMARY:National Diagnostic Imaging Symposium 2015
DESCRIPTION:Register and view full program details HERE\nBeing held De
 cember 6-10, 2015 at Disney’s Yacht Club Resort in Lake Buena Vista,
  Florida, “National Diagnostic Imaging Symposium” is an annual con
 ference that has built a solid reputation among radiologists for its p
 ractical yet forward-thinking curriculum, as well as the high caliber 
 of its faculty.  This conference is designed to improve the medical k
 nowledge and skills of community radiologists who are called on to be 
 well-versed in a variety of radiology sub-specialties and body systems
 .  The course will focus on emerging medical techniques, information 
 and technologies, current medicine, as well as review of best practice
 s in the field of radiology. The program features simultaneous present
 ations covering ten subspecialties including Musculoskeletal Imaging, 
 Breast Imaging, Breast MRI, Gastrointestinal Radiology, Emergency Radi
 ology, Genitourinary Radiology, Cardiovascular Radiology, Intervention
 al Radiology, Ultrasound, Chest Radiology, and Neuroradiology.  One f
 ull day is dedicated to each modality and up to 35 AMA PRA Category 1 
 Credits™ are available.  Additionally, 20 Self-Assessment Modules (
 SAMs) will be offered.\nThis meeting has also been expanded to serve t
 he needs of certain radiology specialists.  We now offer an optional 
 multi-day Breast Imaging track that in 2015 will allow participants to
  receive at least 34.5 breast-imaging specific credits.\n\nFor more in
 formation visit https://community.radrounds.com/events/national-diagno
 stic-imaging-symposium-2015
DTSTART:20151206T050000Z
DTEND:20151211T045900Z
CATEGORIES:radiology, diagnostic, imaging, breast, mammography, ultras
 ound, mri, ct, orlando, cme
LOCATION:Disney's Yacht Club Resort
WEBSITE:http://www.worldclasscme.com/conferences/national-diagnostic-i
 maging-symposium2/
URL:http://www.worldclasscme.com/conferences/national-diagnostic-imagi
 ng-symposium2/
CONTACT:980-819-5095
ORGANIZER:World Class CME (www.worldclasscme.com)
ATTACH;FMTTYPE="image/jpeg":http://storage.ning.com/topology/rest/1.0/
 file/get/1044763396?profile=original
ATTENDEE;ROLE=REQ-PARTICIPANT;PARTSTAT=ACCEPTED;RSVP=TRUE;CN="JoAnn Co
 oke":https://community.radrounds.com/profile/JoAnnCooke
END:VEVENT
END:VCALENDAR
