BEGIN:VCALENDAR
PRODID:NingEventWidget-v1
VERSION:2.0
METHOD:PUBLISH
BEGIN:VEVENT
UID:1791588:Event:83739
DTSTAMP:20260425T190624Z
SUMMARY:National Conference on OB-GYN Ultrasound
DESCRIPTION:This program will focus on issues of practical importance 
 to obstetrician-gynecologists, perinatologists, radiologists and sonog
 raphers. \nThe conference is geared toward the improvement of clinica
 l outcomes for you and your patient.  Specific program objectives are
  to provide you with:\nA review of screening strategies in first and s
 econd trimester\n3D ultrasound applications\nInstruction in current an
 d newer applications of ultrasound in the gynecologic patient\nInterac
 tive discussions on interpretation and clinical pathways using IAME’
 s Audience Response system\n \nEarn up to 19 CME credits.\n \nFor fu
 rther details contact the Registrar at 802\824-4433.\n\nFor more infor
 mation visit https://community.radrounds.com/events/national-conferenc
 e-on-obgyn-1
DTSTART:20111104T040000Z
DTEND:20111107T045900Z
CATEGORIES:cme, conference
LOCATION:Westin River North
WEBSITE:https://iame.com/conferences/ob14/
URL:https://iame.com/conferences/ob14/
CONTACT:802-824-4433
ORGANIZER:IAME
ATTACH;FMTTYPE="image/jpeg":http://storage.ning.com/topology/rest/1.0/
 file/get/1044725708?profile=original
ATTENDEE;ROLE=REQ-PARTICIPANT;PARTSTAT=ACCEPTED;RSVP=TRUE;CN="dr. deep
 ak t tolia":https://community.radrounds.com/profile/drdeepakttolia
ATTENDEE;ROLE=REQ-PARTICIPANT;PARTSTAT=ACCEPTED;RSVP=TRUE;CN="kathleen
  McDiarmid":https://community.radrounds.com/profile/kathleenMcDiarmid
END:VEVENT
END:VCALENDAR
