BEGIN:VCALENDAR
PRODID:NingEventWidget-v1
VERSION:2.0
METHOD:PUBLISH
BEGIN:VEVENT
UID:1791588:Event:153994
DTSTAMP:20260421T062513Z
SUMMARY:National Conference on Cutting Edge Breast Imaging Topics 2014
DESCRIPTION:The targeted audience for this conference is Radiologists,
  Breast Surgeons and Breast Specialty Sonographers.  This accredited 
 conference is designed to guide these healthcare specialists through t
 he evolving landscape of Breast Imaging.   The introduction of new b
 reast imaging technologies and equipment, coupled with enhancements to
  current modalities, results in a full two-day curriculum of informati
 on that emphasizes the most recent developments in the field of breast
  imaging.   Multiple modalities will be addressed, including tomosyn
 thesis breast imaging, automated breast ultrasound, Breast MRI, PET-MR
 , and positron emission mammography.  The course explores the various
  methods of breast biopsy as well as imaging pathology correlation.  
 Additional practical issues will also be covered, such as medical-lega
 l issues that healthcare providers need to be aware of, as well as den
 se breast controversy.  An audience of approximately 100 practitioner
 s is expected to attend.\n\nFor more information visit https://communi
 ty.radrounds.com/events/national-conference-on-cutting-edge-breast-ima
 ging-topics-2014
DTSTART:20140411T040000Z
DTEND:20140413T035900Z
CATEGORIES:breast, imaging, ultrasound, mammography, radiology, tomosy
 nthesis, abus, mri, "women's", health
LOCATION:The Westin Charlotte
WEBSITE:http://www.worldclasscme.com/conferences/national-conference-c
 utting-edge-breast-imaging-topics/
URL:http://www.worldclasscme.com/conferences/national-conference-cutti
 ng-edge-breast-imaging-topics/
CONTACT:(980) 819-5095
ORGANIZER:World Class CME
ATTACH;FMTTYPE="image/jpeg":http://storage.ning.com/topology/rest/1.0/
 file/get/1044758667?profile=original
ATTENDEE;ROLE=REQ-PARTICIPANT;PARTSTAT=ACCEPTED;RSVP=TRUE;CN="JoAnn Co
 oke":https://community.radrounds.com/profile/JoAnnCooke
END:VEVENT
END:VCALENDAR
