BEGIN:VCALENDAR
PRODID:NingEventWidget-v1
VERSION:2.0
METHOD:PUBLISH
BEGIN:VEVENT
UID:1791588:Event:160935
DTSTAMP:20260423T073157Z
SUMMARY:Musculoskeletal Ultrasound Registry Review Course
DESCRIPTION:This live, 2-day MSK ultrasound registry review course off
 ers a comprehensive review for those preparing to take the ARDMS RMSK 
 certification exam. The MSK ultrasound topics are based on the ARDMS M
 SK content outlines and taught by leading MSK experts in an interactiv
 e format. Two mock exams, structured in a similar format to the RMSK e
 xam are provided using an audience response system (ARS). With over 30
  years of providing ultrasound registry review seminars, Gulfcoast Ult
 rasound Institute will help you gain the confidence & competence to pa
 ss the RMSK examination... GUARANTEED!\n\nOver 16 hours dedicated to 
 the RMSK exam\nTwo interactive mock exams using an A.R.S.\nReview cour
 se based on ARDMS MSK content outline\nBONUS : Pre and post-course e-
 Learning included\nGUI UNIQUE OFFERING: Upon completion of the live MS
 K Registry Review, participants receive 5 consecutive free days access
  to the previously recorded “on-demand” RMSK registry review for r
 einforcement of the material presented.\nCan’t Travel? The RMSK revi
 ew is also offered as a live, interactive webinar!\nPASS GUARANTEE (
 free online review if you do not pass the RMSK exam)*\n\n\nFor more in
 formation visit https://community.radrounds.com/events/musculoskeletal
 -ultrasound-registry-review-course
DTSTART:20151008T040000Z
DTEND:20151010T035900Z
CATEGORIES:ultrasound, cme, seminar
LOCATION:Gulfcoast Ultrasound Institute, Inc.
WEBSITE:https://www.gcus.com/courses/about.asp?course=870/Musculoskele
 tal-Ultrasound-Registry-Review-Course
URL:https://www.gcus.com/courses/about.asp?course=870/Musculoskeletal-
 Ultrasound-Registry-Review-Course
CONTACT:800.619.1900
ORGANIZER;CN="Casey Green":https://community.radrounds.com/profile/Jam
 esSalame
ATTACH;FMTTYPE="image/jpeg":
ATTENDEE;ROLE=REQ-PARTICIPANT;PARTSTAT=ACCEPTED;RSVP=TRUE;CN="Casey Gr
 een":https://community.radrounds.com/profile/JamesSalame
END:VEVENT
END:VCALENDAR
