BEGIN:VCALENDAR
PRODID:NingEventWidget-v1
VERSION:2.0
METHOD:PUBLISH
BEGIN:VEVENT
UID:1791588:Event:178033
DTSTAMP:20260421T095011Z
SUMMARY:Musculoskeletal Ultrasound Registry Review Course
DESCRIPTION:The Musculoskeletal Ultrasound Registry Review Course offe
 rs a comprehensive review for those preparing to take the APCA RMSK or
  ARDMS RMSKS certification exam. The MSK registry review ultrasound co
 urse/program is taught by leading experts in the MSK ultrasound profes
 sion and includes interactive lectures, case studies, and mock registr
 y exams using an interactive Audience Response System.\nTopics\n\nUppe
 r & Lower Extremity Joints\nAnatomy & Physiology\nScan Protocols & Nor
 mal Sonographic Characteristics\nPathology\nIntegration of Data\nInter
 ventional Procedures\nCase Studies\nInteractive Mock Exams and Q&A Ses
 sions\n\n \nObjectives\n\nIncrease the participant’s knowledge to b
 etter perform and/or interpret MSK ultrasound examinations.\nOutline a
 ppropriate transducer selection, system optimization, and identify com
 monly seen artifacts associated with MSK ultrasound.\nState scanning p
 rotocols for performing shoulder, elbow, wrist/hand, knee, ankle, foot
  and hip ultrasound examinations.\nIdentify normal anatomy during musc
 uloskeletal ultrasound imaging.\nRecognize ultrasound characteristics 
 of commonly seen pathology of the shoulder, knee, elbow, wrist hand, a
 nkle, foot, and hip.\nOutline the use of MSK sonography for diagnosis 
 and treatment options, including ultrasound-guided interventions.\nInt
 egrate all patient and imaging data for effective analysis of examinat
 ion results.\nIdentify areas of that may require further study\nIncrea
 se knowledge and competence for successful registry examination comple
 tion\n\n\nFor more information visit https://community.radrounds.com/e
 vents/musculoskeletal-ultrasound-registry-review-course-3
DTSTART:20180920T113000Z
DTEND:20180921T210000Z
CATEGORIES:live, cme, seminar
LOCATION:Gulfcoast Ultrasound Institute
WEBSITE:https://www.gcus.com/
URL:https://www.gcus.com/
CONTACT:7273634500
ORGANIZER:Gulfcoast Ultrasound Institute, Inc
ATTACH;FMTTYPE="image/jpeg":http://storage.ning.com/topology/rest/1.0/
 file/get/1044771839?profile=original
ATTENDEE;ROLE=REQ-PARTICIPANT;PARTSTAT=ACCEPTED;RSVP=TRUE;CN="Casey Gr
 een":https://community.radrounds.com/profile/JamesSalame
END:VEVENT
END:VCALENDAR
