BEGIN:VCALENDAR
PRODID:NingEventWidget-v1
VERSION:2.0
METHOD:PUBLISH
BEGIN:VEVENT
UID:1791588:Event:169986
DTSTAMP:20260424T022803Z
SUMMARY:Musculoskeletal Ultrasound Registry Review Course
DESCRIPTION:The Musculoskeletal Ultrasound Registry Review Course offe
 rs a comprehensive review for those preparing to take the APCA RMSK or
  ARDMS RMSKS certification exam. The MSK registry review course is tau
 ght by leading experts in the MSK ultrasound profession and includes i
 nteractive lectures, case studies, and mock registry exams using an in
 teractive Audience Response System.\nObjectives\n\nIncrease the partic
 ipant’s knowledge to better perform and/or interpret MSK ultrasound 
 examinations.\nOutline appropriate transducer selection, system optimi
 zation, and identify commonly seen artifacts associated with MSK ultra
 sound.\nState scanning protocols for performing shoulder, elbow, wrist
 /hand, knee, ankle, foot and hip ultrasound examinations.\nIdentify no
 rmal anatomy during musculoskeletal ultrasound imaging.\nRecognize ult
 rasound characteristics of commonly seen pathology of the shoulder, kn
 ee, elbow, wrist hand, ankle, foot, and hip.\nOutline the use of MSK s
 onography for diagnosis and treatment options, including ultrasound-gu
 ided interventions.\nIntegrate all patient and imaging data for effect
 ive analysis of examination results.\n8Identify areas of that may requ
 ire further study\n9Increase knowledge and competence for successful r
 egistry examination completion\n\n \n\nTopics\n\nUpper & Lower Extrem
 ity Joints\nAnatomy & Physiology\nScan Protocols & Normal Sonographic 
 Characteristics\nPathology\nIntegration of Data\nInterventional Proced
 ures\nCase Studies\nInteractive Mock Exams and Q&A Sessions\n\n\nFor m
 ore information visit https://community.radrounds.com/events/musculosk
 eletal-ultrasound-registry-review-course-2
DTSTART:20170925T110000Z
DTEND:20170926T210000Z
CATEGORIES:cme, conference
LOCATION:Gulfcoast Ultrasound Institute
WEBSITE:https://www.gcus.com/courses/about.asp?course=1133/Musculoskel
 etal-Ultrasound-Registry-Review-Course
URL:https://www.gcus.com/courses/about.asp?course=1133/Musculoskeletal
 -Ultrasound-Registry-Review-Course
CONTACT:17273634500
ORGANIZER:GCUS
ATTACH;FMTTYPE="image/jpeg":http://storage.ning.com/topology/rest/1.0/
 file/get/1044769104?profile=original
ATTENDEE;ROLE=REQ-PARTICIPANT;PARTSTAT=ACCEPTED;RSVP=TRUE;CN="Casey Gr
 een":https://community.radrounds.com/profile/JamesSalame
END:VEVENT
END:VCALENDAR
