BEGIN:VCALENDAR
PRODID:NingEventWidget-v1
VERSION:2.0
METHOD:PUBLISH
BEGIN:VEVENT
UID:1791588:Event:164846
DTSTAMP:20260421T085933Z
SUMMARY:Musculoskeletal Ultrasound Registry Review Course
DESCRIPTION:The Musculoskeletal Ultrasound Registry Review Course offe
 rs a comprehensive review for those preparing to take the ARDMS RMSK c
 ertification exam. The MSK registry review course is taught by leading
  experts in the MSK ultrasound profession and includes interactive lec
 tures, case studies, and mock registry exams using an interactive Audi
 ence Response System.\n\nFor more information visit https://community.
 radrounds.com/events/musculoskeletal-ultrasound-registry-review-course
 -1
DTSTART:20161013T040000Z
DTEND:20161015T035900Z
CATEGORIES:ultrasound, cme, seminar
LOCATION:Gulfcoast Ultrasound Institute, Inc.
WEBSITE:https://www.gcus.com/courses/about.asp?course=951/Musculoskele
 tal-Ultrasound-Registry-Review-Course
URL:https://www.gcus.com/courses/about.asp?course=951/Musculoskeletal-
 Ultrasound-Registry-Review-Course
CONTACT:800-619-1900
ORGANIZER;CN="Casey Green":https://community.radrounds.com/profile/Jam
 esSalame
ATTACH;FMTTYPE="image/jpeg":
ATTENDEE;ROLE=REQ-PARTICIPANT;PARTSTAT=ACCEPTED;RSVP=TRUE;CN="Casey Gr
 een":https://community.radrounds.com/profile/JamesSalame
END:VEVENT
END:VCALENDAR
