BEGIN:VCALENDAR
PRODID:NingEventWidget-v1
VERSION:2.0
METHOD:PUBLISH
BEGIN:VEVENT
UID:1791588:Event:73234
DTSTAMP:20260425T155026Z
SUMMARY:Musculoskeletal Ultrasound for Sonographers
DESCRIPTION:Musculoskeletal Ultrasound for Sonographers\nNovember 18-1
 9, 2011\n\nProgram Coordinator: Nandkumar Rawool, MD, RDMS\n\nWho Shou
 ld Attend:\nThe program is designed for sonographers who currently per
 form general ultrasound imaging and who need to be able to perform mus
 culoskeletal exams of the shoulder, elbow, wrist and knee.\n\nProgram 
 Description:\nThis course provides sonographers with a comprehensive i
 ntroduction to musculoskeletal ultrasound imaging of the major joints.
  On the first day of the course each joint is presented in a lecture f
 ollowed by a live demonstration of scanning techniques. A supervised h
 ands-on session on Saturday morning provides each participant with opp
 ortunity to complete a full examination based on a standard protocol.\
 n\nCME Credits and Tuition:\nThis program is approved for 10 hours of 
 AMA Category 1 credit.\n\nTuition: $1250\n\nFor more information visit
  https://community.radrounds.com/events/musculoskeletal-ultrasound-for
 -1
DTSTART:20111118T050000Z
DTEND:20111120T045900Z
CATEGORIES:course
LOCATION:Jefferson Ultrasound Research and Education Institute
WEBSITE:http://www.jefferson.edu/jurei/cme/MusculoskeletalUltrasoundfo
 rSonographers.cfm
URL:http://www.jefferson.edu/jurei/cme/MusculoskeletalUltrasoundforSon
 ographers.cfm
CONTACT:
ORGANIZER:Jefferson Ultrasound Research and Education Institute (JUREI
 )
ATTACH;FMTTYPE="image/jpeg":
ATTENDEE;ROLE=REQ-PARTICIPANT;PARTSTAT=ACCEPTED;RSVP=TRUE;CN="radRound
 s Radiology Events":https://community.radrounds.com/profile/radRoundsR
 adiologyEvents
END:VEVENT
END:VCALENDAR
