BEGIN:VCALENDAR
PRODID:NingEventWidget-v1
VERSION:2.0
METHOD:PUBLISH
BEGIN:VEVENT
UID:1791588:Event:116001
DTSTAMP:20260424T073354Z
SUMMARY:Musculoskeletal Ultrasound
DESCRIPTION:Musculoskeletal Ultrasound Saturday, February 25, 2012 - S
 unday, February 26, 2012Advanced Health Education Center Houston, Texa
 s (TX), United StatesProvided by Advanced Health Education Center  CME
  Provider: Advanced Health Education Center 8502 Tybor DriveHouston, T
 exas (TX) 77074United States\nToll Free: (800) 239-1361Phone: (713) 77
 2-0157Fax: (713) 772-0155\n\nConference Center:Advanced Health Educati
 on Center 8502 Tybor DriveHouston, Texas (TX) 77074United States\nPhon
 e: (800) 239-1361\nDescription:Musculoskeletal ultrasound is the easie
 st and most accurate diagnostic tool for diagnosing soft tissue injuri
 es and pathology. It is an accurate, quick, non-invasive and cost-effe
 ctive diagnostic tool. Don’t miss this opportunity to explore the ap
 plications of this emerging technology with a pioneer in this area of 
 ultrasound. This aggressive program combines lecture with hands-on tra
 ining to provide you with an excellent foundation for musculoskeletal 
 applications and interpretation. Give us two days and you’ll leave t
 his course with the knowledge and skill to get you started in musculos
 keletal ultrasound.\nObjectives At the conclusion of the course, the p
 articipant will be able to: • Perform Musculoskeletal ultrasound exa
 ms • Identify normal anatomy within upper and lower extremities • 
 Identify pathology • Write reports • Store/send films and data •
  Use reliable testing protocols\nCourse Topics • Upper Extremity - S
 houlder - Elbow - Wrist • Lower Extremity - Hip - Knee - Ankle/Foot 
 • Other Areas - Soft tissue and muscle - Interventions\nTarget Audie
 nce Physicians seeking entry level information in musculoskeletal ultr
 asound, scanning and interpretation. Sonographers or health profession
 als learning musculoskeletal ultrasound.\nCME Credits \"The Advanced H
 ealth Education Center is accredited by the Accreditation Council for 
 Continuing Medical Education to provide continuing medical education f
 or physicians.” \"The Advanced Health Education Center designates th
 is educational activity for a maximum of 16 hours AMA PRA Category I
 . Physician should claim credit commensurate with the extent of their
  participation in the activity.”\nFee includes lecture, scanning lab
 oratory instruction with models, and supplies for the classroom and la
 boratory, Students are responsible for textbooks, housing and transpor
 tation.\nSelf Assessment Module (SAM): No\nInstructors:John Cianca, MD
 , ABPMR, FAAPMR,FACSM\nSpecialty Audience:Radiology\n\nFor more inform
 ation visit https://community.radrounds.com/events/musculoskeletal-ult
 rasound-9
DTSTART:20120225T050000Z
DTEND:20120227T045900Z
CATEGORIES:radiology
LOCATION:Advanced Health Education Center
WEBSITE:http://aheconline.com/
URL:http://aheconline.com/
CONTACT:(800) 239-1361
ORGANIZER:Advanced Health Education Center
ATTACH;FMTTYPE="image/jpeg":
ATTENDEE;ROLE=REQ-PARTICIPANT;PARTSTAT=ACCEPTED;RSVP=TRUE;CN="radRound
 s Radiology Events":https://community.radrounds.com/profile/radRoundsR
 adiologyEvents
END:VEVENT
END:VCALENDAR
