BEGIN:VCALENDAR
PRODID:NingEventWidget-v1
VERSION:2.0
METHOD:PUBLISH
BEGIN:VEVENT
UID:1791588:Event:59114
DTSTAMP:20260421T061802Z
SUMMARY:Musculoskeletal Ultrasound
DESCRIPTION:Musculoskeletal Ultrasound\nSaturday, September 18, 2010 -
  Sunday, September 19, 2010\nHouston, TX\n\nMEETING SPONSOR:\nAdvanced
  Health Education Center\n8502 Tybor St.\nHouston, TX 77074\nToll-Free
  1-800-239-1361\n713-772-0157\nWebsite: http://www.aheconline.com\n\nC
 ONFERENCE CENTER:\nAdvanced Health Education Center\n8502 Tybor St.\nH
 ouston, TX 77074\nToll-Free 1-800-239-1361\n713-772-0157\nWebsite: htt
 p://www.aheconline.com\n\nMEETING BROCHURE:\nTo view and print the mee
 ting brochure, click here:\nhttp://store.aheconline.com/DisplayDetail.
 aspx?pid=4623\n\nMEETING DESCRIPTION:\nMusculoskeletal ultrasound is t
 he easiest and most accurate diagnostic tool for diagnosing soft tissu
 e injuries and pathology. It is an accurate, quick, non-invasive and c
 ost-effective diagnostic tool. Don’t miss this opportunity to explor
 e the applications of this emerging technology with a pioneer in this 
 area of ultrasound. This aggressive program combines lecture with hand
 s-on training to provide you with an excellent foundation for musculos
 keletal applications and interpretation. Give us two days and you’ll
  leave this course with the knowledge and skill to get you started in 
 musculoskeletal ultrasound.\n\nObjectives\nAt the conclusion of the co
 urse, the participant will be able to:\n• Perform Musculoskeletal ul
 trasound exams\n• Identify normal anatomy within upper and lower ext
 remities\n• Identify pathology\n• Write reports\n• Store/send fi
 lms and data\n• Use reliable testing protocols\n\nCourse Topics\n•
  Upper Extremity\n- Shoulder\n- Elbow\n- Wrist\n• Lower Extremity\n-
  Hip\n- Knee\n- Ankle/Foot\n• Other Areas\n- Soft tissue and muscle\
 n- Interventions\n\nTarget Audience Physicians seeking entry level inf
 ormation in musculoskeletal ulstrasound, scanning and interpretation. 
 Sonographers or health professionals learning musculoskeletal ultrasou
 nd.\n\nCME Credits\n\"The Advanced Health Education Center is accredit
 ed by the Accreditation Council for Continuing Medical Education to pr
 ovide continuing medical education for physicians.”\n\"The Advanced 
 Health Education Center designates this educational activity for a max
 imum of 16 hours AMA PRA Category I™. Physician should claim credit 
 commensurate with the extent of their participation in the activity.
 \n\nFee includes lecture, scanning laboratory instruction with models
 , and supplies for the classroom and laboratory, Students are responsi
 ble for textbooks, housing and transportation.\n\nINSTRUCTORS:\nCianca
 \n\nCME HOURS: 16\n\nLECTURE TOPICS:\nnot listed\n\nFor more informati
 on visit https://community.radrounds.com/events/musculoskeletal-ultras
 ound-7
DTSTART:20100918T040000Z
DTEND:20100920T035900Z
CATEGORIES:musculoskeletal, ultrasound
LOCATION:Advanced Health Education Center
WEBSITE:http://www.aheconline.com
URL:http://www.aheconline.com
CONTACT:713-772-0157
ORGANIZER:Advanced Health Education Center
ATTACH;FMTTYPE="image/jpeg":
ATTENDEE;ROLE=REQ-PARTICIPANT;PARTSTAT=ACCEPTED;RSVP=TRUE;CN="radRound
 s Radiology Events":https://community.radrounds.com/profile/radRoundsR
 adiologyEvents
END:VEVENT
END:VCALENDAR
