BEGIN:VCALENDAR
PRODID:NingEventWidget-v1
VERSION:2.0
METHOD:PUBLISH
BEGIN:VEVENT
UID:1791588:Event:158679
DTSTAMP:20260421T161424Z
SUMMARY:Musculoskeletal Ultrasound
DESCRIPTION:\nMusculoskeletal ultrasound is a reliable and accurate di
 agnostic tool for imaging neuro-musculoskeletal structures and patholo
 gy. It is a non-invasive and cost-effective diagnostic tool that can b
 e used in the office. This 2 day course combines lecture with hands-on
  training to provide you with an excellent foundation for musculoskele
 tal ultrasound applications and interpretation.\nObjectives\nAt the co
 nclusion of the course, the participant will be able to:\n\nPerform mu
 sculoskeletal ultrasound exams with standard protocols\nIdentify norma
 l anatomy within upper and lower extremities\nIdentify pathology\nWrit
 e reports\nAnnotate and store images\n\nCourse Topics\n\nUltrasound ph
 ysics\nTissue identification and differentiation\nShoulder\nWrist\nHip
 \nKnee\nAnkle/Foot\nIntroduction to Interventions\n\nTarget Audience\n
 Physicians seeking entry level information in musculoskeletal ultrasou
 nd, scanning and interpretation. Also sonographers or health professio
 nals learning musculoskeletal ultrasound.\nCME Credits\n\n\"The Advanc
 ed Health Education Center is accredited by the Accreditation Council 
 for Continuing Medical Education to provide continuing medical educati
 on for physicians.”\n\"The Advanced Health Education Center designat
 es this educational activity for a maximum of 16 hours AMA PRA Categor
 y I™. Physician should claim credit commensurate with the extent of 
 their participation in the activity.”\n\nFaculty: John Cianca, MD, 
 ABPMR, FAAPMR, FACSM\nFee: Includes lecture, scanning laboratory inst
 ruction with models, and supplies for the classroom and laboratory. St
 udents are responsible for textbooks, housing and transportation.\n\nF
 or more information visit https://community.radrounds.com/events/muscu
 loskeletal-ultrasound-17
DTSTART:20150228T050000Z
DTEND:20150302T045900Z
CATEGORIES:seminar
LOCATION:AHEC
WEBSITE:https://store.aheconline.com/index.php?route=product/product&f
 ilter_name=MUSCULOSKELETAL%20ULTRASOUND&product_id=1618
URL:https://store.aheconline.com/index.php?route=product/product&filte
 r_name=MUSCULOSKELETAL%20ULTRASOUND&product_id=1618
CONTACT:713-772-0157
ORGANIZER;CN="Larry Carney":https://community.radrounds.com/profile/La
 rryCarney
ATTACH;FMTTYPE="image/jpeg":
ATTENDEE;ROLE=REQ-PARTICIPANT;PARTSTAT=ACCEPTED;RSVP=TRUE;CN="Larry Ca
 rney":https://community.radrounds.com/profile/LarryCarney
END:VEVENT
END:VCALENDAR
