BEGIN:VCALENDAR
PRODID:NingEventWidget-v1
VERSION:2.0
METHOD:PUBLISH
BEGIN:VEVENT
UID:1791588:Event:158428
DTSTAMP:20260421T033416Z
SUMMARY:Musculoskeletal Ultrasound
DESCRIPTION:Musculoskeletal ultrasound is a reliable and accurate diag
 nostic tool for imaging neuro-musculoskeletal structures and pathology
 . It is a non-invasive and cost-effective diagnostic tool that can be 
 used in the office. This 2 day course combines lecture with hands-on t
 raining to provide you with an excellent foundation for musculoskeleta
 l ultrasound applications and interpretation.\nObjectives\nAt the conc
 lusion of the course, the participant will be able to:\n\nPerform musc
 uloskeletal ultrasound exams with standard protocols\nIdentify normal 
 anatomy within upper and lower extremities\nIdentify pathology\nWrite 
 reports\nAnnotate and store images\n\nCourse Topics\n\nUltrasound phys
 ics\nTissue identification and differentiation\nShoulder\nWrist\nHip\n
 Knee\nAnkle/Foot\nIntroduction to Interventions\n\nTarget Audience\nPh
 ysicians seeking entry level information in musculoskeletal ultrasound
 , scanning and interpretation. Also sonographers or health professiona
 ls learning musculoskeletal ultrasound.\nCME Credits\n\n\"The Advanced
  Health Education Center is accredited by the Accreditation Council fo
 r Continuing Medical Education to provide continuing medical education
  for physicians.”\n\"The Advanced Health Education Center designates
  this educational activity for a maximum of 16 hours AMA PRA Category 
 I™. Physician should claim credit commensurate with the extent of th
 eir participation in the activity.”\n\nFaculty: John Cianca, MD, AB
 PMR, FAAPMR, FACSM\nFee: Includes lecture, scanning laboratory instru
 ction with models, and supplies for the classroom and laboratory. Stud
 ents are responsible for textbooks, housing and transportation.\n\nFor
  more information visit https://community.radrounds.com/events/musculo
 skeletal-ultrasound-15
DTSTART:20150919T120000Z
DTEND:20150920T210000Z
CATEGORIES:seminar
LOCATION:Advanced Health Education Center
WEBSITE:https://store.aheconline.com/index.php?route=product/product&f
 ilter_name=musculoskeletal%20ultrasound&product_id=1620
URL:https://store.aheconline.com/index.php?route=product/product&filte
 r_name=musculoskeletal%20ultrasound&product_id=1620
CONTACT:713-772-0157
ORGANIZER;CN="Larry Carney":https://community.radrounds.com/profile/La
 rryCarney
ATTACH;FMTTYPE="image/jpeg":
ATTENDEE;ROLE=REQ-PARTICIPANT;PARTSTAT=ACCEPTED;RSVP=TRUE;CN="Larry Ca
 rney":https://community.radrounds.com/profile/LarryCarney
END:VEVENT
END:VCALENDAR
