BEGIN:VCALENDAR
PRODID:NingEventWidget-v1
VERSION:2.0
METHOD:PUBLISH
BEGIN:VEVENT
UID:1791588:Event:123142
DTSTAMP:20260422T143702Z
SUMMARY:Musculoskeletal Ultrasound
DESCRIPTION:Musculoskeletal ultrasound is the easiest and most accurat
 e diagnostic tool for diagnosing soft tissue injuries and pathology. I
 t is an accurate, quick, non-invasive and cost-effective diagnostic to
 ol. Don’t miss this opportunity to explore the applications of this 
 emerging technology with a pioneer in this area of ultrasound. This ag
 gressive program combines lecture with hands-on training to provide yo
 u with an excellent foundation for musculoskeletal applications and in
 terpretation. Give us two days and you’ll leave this course with the
  knowledge and skill to get you started in musculoskeletal ultrasound.
  \n\nFor more information visit https://community.radrounds.com/event
 s/musculoskeletal-ultrasound-10
DTSTART:20120609T120000Z
DTEND:20120610T210000Z
CATEGORIES:ce, course
LOCATION:Advanced Health Education Center
WEBSITE:http://store.aheconline.com/DisplayDetail.aspx?pid=7075
URL:http://store.aheconline.com/DisplayDetail.aspx?pid=7075
CONTACT:800-239-1361
ORGANIZER:Advanced Health Education Center
ATTACH;FMTTYPE="image/jpeg":
ATTENDEE;ROLE=REQ-PARTICIPANT;PARTSTAT=ACCEPTED;RSVP=TRUE;CN="Larry Ca
 rney":https://community.radrounds.com/profile/LarryCarney
END:VEVENT
END:VCALENDAR
