BEGIN:VCALENDAR
PRODID:NingEventWidget-v1
VERSION:2.0
METHOD:PUBLISH
BEGIN:VEVENT
UID:1791588:Event:115369
DTSTAMP:20260425T095624Z
SUMMARY:Musculoskeletal MRI & Abdominal Imaging Update 2012
DESCRIPTION:Musculoskeletal MRI & Abdominal Imaging Update 2012 Monday
 , January 16, 2012 - Thursday, January 19, 2012Ritz Carlton Grand Caym
 an, Cayman IslandsProvided by Duke University Department of Radiology 
  CME Provider: Duke University Department of Radiology c/o Aladdin Tra
 vel & Meeting PlannersEmily Verheyen485 Shepherd StreetWinston Salem, 
 North Carolina (NC) 27103United States\nPhone: (336) 499-6705\n\nConfe
 rence Center:Ritz Carlton PO Box 32348 KY1-1209, Seven Mile BeachGrand
  Cayman, Cayman Islands\nToll Free: (345) 943-9000Phone: (345) 943-900
 0Fax: (345) 943-9001\n Description:A comprehensive update of the lates
 t techniques and procedures related to abdominal imaging and musculosk
 eletal MRI & abdominal imaging.\nSelf Assessment Module (SAM): No\nIns
 tructors:Clyde Helms, M.D.\nSpecialty Audience:Radiology\n\nFor more i
 nformation visit https://community.radrounds.com/events/musculoskeleta
 l-mri-abdominal-imaging-update-2012-1
DTSTART:20120116T050000Z
DTEND:20120120T045900Z
CATEGORIES:radiology
LOCATION:Ritz Carlton
WEBSITE:http://www.ritzcarlton.com/en/Properties/GrandCayman/Default.h
 tm
URL:http://www.ritzcarlton.com/en/Properties/GrandCayman/Default.htm
CONTACT:(345) 943-9000
ORGANIZER:Duke University Department of Radiology
ATTACH;FMTTYPE="image/jpeg":
ATTENDEE;ROLE=REQ-PARTICIPANT;PARTSTAT=ACCEPTED;RSVP=TRUE;CN="radRound
 s Radiology Events":https://community.radrounds.com/profile/radRoundsR
 adiologyEvents
END:VEVENT
END:VCALENDAR
