BEGIN:VCALENDAR
PRODID:NingEventWidget-v1
VERSION:2.0
METHOD:PUBLISH
BEGIN:VEVENT
UID:1791588:Event:116514
DTSTAMP:20260422T232640Z
SUMMARY:Musculoskeletal MR
DESCRIPTION:Musculoskeletal MR Friday, May 11, 2012 - Sunday, May 13, 
 2012American College of Radiology (ACR) Reston, Virginia (VA), United 
 StatesProvided by American College of Radiology (ACR)  CME Provider: A
 merican College of Radiology (ACR) 1891 Preston White DriveReston, Vir
 ginia (VA) 20191United States\nToll Free: (800) 373-2204Phone: (800) 3
 73-2204\n\nConference Center:American College of Radiology (ACR) ACR E
 ducation Center1891 Preston White DriveReston, Virginia (VA) 20191Unit
 ed States\nToll Free: (800) 373-2204Phone: (800) 373-2204\n Descriptio
 n:This three-day educational course is designed to provide the practic
 ing radiologist an intensive hands-on experience in the technique and 
 interpretation of MR imaging of the knee, shoulder, ankle/foot and hip
 . The course is focused toward the non-musculoskeletal trained radiolo
 gist responsible for interpretation of these often complex examination
 s. The attendee will have the opportunity to review and interpret over
  100 musculoskeletal MR examinations on a PACS workstation under the s
 upervision of expert faculty. Through participation in multiple scan i
 nterpretation sessions, including a detailed review of the key finding
 s, each attendee will develop a higher level of expertise and confiden
 ce in evaluating MR of these various joints.\nSelf Assessment Module (
 SAM): Yes\nInstructors:Mark Murphy, MDPhysician-in-ChiefAmerican Insti
 tute of Radiologic PathologySilver Spring, MD\nSpecialty Audience:Radi
 ology\n\nFor more information visit https://community.radrounds.com/ev
 ents/musculoskeletal-mr-6
DTSTART:20120511T040000Z
DTEND:20120514T035900Z
CATEGORIES:radiology
LOCATION:American College of Radiology (ACR)
WEBSITE:http://www.acr.org/educenter
URL:http://www.acr.org/educenter
CONTACT:(800) 373-2204
ORGANIZER:American College of Radiology (ACR)
ATTACH;FMTTYPE="image/jpeg":
ATTENDEE;ROLE=REQ-PARTICIPANT;PARTSTAT=ACCEPTED;RSVP=TRUE;CN="radRound
 s Radiology Events":https://community.radrounds.com/profile/radRoundsR
 adiologyEvents
END:VEVENT
END:VCALENDAR
