BEGIN:VCALENDAR
PRODID:NingEventWidget-v1
VERSION:2.0
METHOD:PUBLISH
BEGIN:VEVENT
UID:1791588:Event:73236
DTSTAMP:20260425T141616Z
SUMMARY:Musculoskeletal MR
DESCRIPTION:Musculoskeletal MR\n\nCourse Overview\n\nThis three-day ed
 ucational course is designed to provide the practicing radiologist an 
 intensive hands-on experience in the technique and the interpretation 
 of MR imaging of the knee, shoulder, ankle/foot and hip. The course is
  focused toward the non-musculoskeletal trained radiologist responsibl
 e for inter-pretation of these often complex examinations. The attende
 e will have the opportunity to review and interpret over 100 mus-culos
 keletal MR examinations under the supervision of expert faculty. Throu
 gh participation in multiple scan interpretation sessions, including a
  detailed review of the key findings, each attendee will develop a hig
 her level of expertise and confidence in evaluating MR of these variou
 s joints. All cases will be reviewed on a FUJI PACS workstation.\n\nSc
 hedule & Registration\nMember Fee*: $3,500.00\nNov. 18-20, 2011 (Fri â
 €“ Sun)\n\nCourse Director\n\nMark Murphey, M.D.\nChief, Musculoskelet
 al Pathology, AFIP,\nWashington, DC\nProgram Objectives\n\nAt the conc
 lusion of this conference, participants will be able to:\n\n1. Identif
 y the normal appearances of important anatomic structures on MR imagin
 g of the knee, shoulder, ankle/foot and hip\n\n2. Identify abnormaliti
 es involving the menisci, cruciate ligaments, collateral ligaments, ex
 tensor mechanism and osteochondral structures on MR imaging of the kne
 e\n\n3. Recognize important MR imaging features of rotator cuff tears,
  glenoid labral injuries and their clinical implications\n\n4. Detect 
 common abnormalities of frequently injured tendons, ligaments and oste
 ochondral structures on MR imaging of the ankle/foot\n\n5. Recognize i
 mportant imaging features of avascular necrosis, labral tears, femoroa
 cetabular impingement syndrome and traumatic injuries on MR of the hip
 \n\nAttendees who complete a minimum of 100 cases will be awarded a Ce
 rtificate of Proficiency stating they meet the Maintenance of Competen
 ce case requirement as specified in the ACR Practice Guidelines for th
 e Performance of Magnetic Resonance Imaging (MRI) for the knee, should
 er, ankle and hindfoot, and hip and pelvis for musculoskeletal disorde
 rs.\n\n* Members-in-Training fee is 50% off member rate. Attendees who
  register 3 months in advance will receive a $250 discount (Member-In-
 Training: $125 discount). Late registrations received within two weeks
  of the course will be charged an additional $500 (Member-In-Training:
  additional $250).\n\nFor more information visit https://community.rad
 rounds.com/events/musculoskeletal-mr-4
DTSTART:20111118T050000Z
DTEND:20111121T045900Z
CATEGORIES:course
LOCATION:American College of Radiology (ACR)
WEBSITE:http://www.acr.org/EducationCenter/ACRFutureClassroom/details-
 mskmr.aspx
URL:http://www.acr.org/EducationCenter/ACRFutureClassroom/details-mskm
 r.aspx
CONTACT:800-373-2204
ORGANIZER:American College of Radiology (ACR)
ATTACH;FMTTYPE="image/jpeg":
ATTENDEE;ROLE=REQ-PARTICIPANT;PARTSTAT=ACCEPTED;RSVP=TRUE;CN="radRound
 s Radiology Events":https://community.radrounds.com/profile/radRoundsR
 adiologyEvents
END:VEVENT
END:VCALENDAR
