BEGIN:VCALENDAR
PRODID:NingEventWidget-v1
VERSION:2.0
METHOD:PUBLISH
BEGIN:VEVENT
UID:1791588:Event:110858
DTSTAMP:20260425T082853Z
SUMMARY:Musculoskeletal Imaging in the Digital World
DESCRIPTION:Radiologic technologists, students and educators will find
  this an enjoyable and useful presentation!\n \nThis MTMI seminar wil
 l cover anatomy, function and pathology of each major musculoskeletal 
 system. Proper patient positioning and dose optimization will also be 
 discussed, as well as, common artifacts that you will find while utili
 zing digital radiography.\n \nSeminar offers 8 Hours ARRT Category A 
 Credit\n \nCLICK HERE TO REGISTER NOW!\n\nFor more information visit 
 https://community.radrounds.com/events/musculoskeletal-imaging-in-the-
 digital-world
DTSTART:20120121T050000Z
DTEND:20120122T045900Z
CATEGORIES:"seminar/conference"
LOCATION:Holiday Inn Mission Valley Stadium
WEBSITE:http://www.mtmi.net/seminars/msk.php
URL:http://www.mtmi.net/seminars/msk.php
CONTACT:(800) 765-6864
ORGANIZER:Medical Technology Management Institute (MTMI)
ATTACH;FMTTYPE="image/jpeg":http://storage.ning.com/topology/rest/1.0/
 file/get/1044737212?profile=original
ATTENDEE;ROLE=REQ-PARTICIPANT;PARTSTAT=ACCEPTED;RSVP=TRUE;CN="Rizza T.
  Kinney":https://community.radrounds.com/profile/RizzaTKinney
END:VEVENT
END:VCALENDAR
