BEGIN:VCALENDAR
PRODID:NingEventWidget-v1
VERSION:2.0
METHOD:PUBLISH
BEGIN:VEVENT
UID:1791588:Event:115788
DTSTAMP:20260424T060355Z
SUMMARY:Multimodality Detection and Diagnosis of Breast Diseases
DESCRIPTION:Multimodality Detection and Diagnosis of Breast Diseases T
 hursday, March 01, 2012 - Sunday, March 04, 2012Hilton Morumbi Sao Pau
 lo Brooklin Novo Sao Paulo, BrazilProvided by Mammography Education, I
 nc.  CME Provider: Mammography Education, Inc. Laszlo Tabar, M.D.4429 
 E Spur DriveCave Creek, Arizona (AZ) 85331United States\nPhone: (480) 
 419-0227Fax: (480) 419-0219\n\nConference Center:Hilton Morumbi Sao Pa
 ulo Av. das Nacoes Unidas, 12901Brooklin Novo Sao Paulo, Brazil\nPhone
 : 55-11-2845-0000\nDescription:Implications of mammography, MRI, breas
 t ultrasound and interventional methods in radiological and surgical p
 ractice\nThis course provides extensive knowledge about diagnostic bre
 ast imaging, differential diagnosis of breast diseases, implications f
 or management and newest diagnostic technologies\nSelf Assessment Modu
 le (SAM): No\nInstructors:Laszlo Tabar, M.D. F.A.C.R. (Hon)\nSpecialty
  Audience:Obstetrics / GynecologyRadiologySurgery\n\nFor more informat
 ion visit https://community.radrounds.com/events/multimodality-detecti
 on-and-diagnosis-of-breast-diseases
DTSTART:20120301T050000Z
DTEND:20120305T045900Z
CATEGORIES:radiology
LOCATION:Hilton Morumbi Sao Paulo
WEBSITE:http://www1.hilton.com/en_US/hi/hotel/SAOMOHH-Hilton-Sao-Paulo
 -Morumbi/index.do
URL:http://www1.hilton.com/en_US/hi/hotel/SAOMOHH-Hilton-Sao-Paulo-Mor
 umbi/index.do
CONTACT:55-11-2845-0000
ORGANIZER:Mammography Education, Inc.
ATTACH;FMTTYPE="image/jpeg":
ATTENDEE;ROLE=REQ-PARTICIPANT;PARTSTAT=ACCEPTED;RSVP=TRUE;CN="radRound
 s Radiology Events":https://community.radrounds.com/profile/radRoundsR
 adiologyEvents
END:VEVENT
END:VCALENDAR
