BEGIN:VCALENDAR
PRODID:NingEventWidget-v1
VERSION:2.0
METHOD:PUBLISH
BEGIN:VEVENT
UID:1791588:Event:116604
DTSTAMP:20260422T180723Z
SUMMARY:Multimodality Detection and Diagnosis of Breast Diseases With 
 or Without Breast MR
DESCRIPTION:Multimodality Detection and Diagnosis of Breast Diseases W
 ith or Without Breast MR Tuesday, May 08, 2012 - Saturday, May 12, 201
 2The M Resort Spa and Casino Las Vegas (Henderson), Nevada (NV), Unite
 d StatesProvided by Mammography Education, Inc.  CME Provider: Mammogr
 aphy Education, Inc. Laszlo Tabar, M.D.4429 E Spur DriveCave Creek, Ar
 izona (AZ) 85331United States\nPhone: (480) 419-0227Fax: (480) 419-021
 9\n\nConference Center:The M Resort Spa and Casino 12300 Las Vegas Blv
 d SLas Vegas (Henderson), Nevada (NV) 89044United States\nToll Free: (
 877) 673-7678Phone: (702) 797-1000\nDescription:Choose Four or Five Da
 y Course\nThis course offers 15 credit hours of breast MRI, fulfilling
  the MIPPA accreditation requirements for breast MRI.\nFour and a half
  day course: 32 hours of Category I CME creditsThree and a half day co
 urse: 24 hours of Category I CME credits\nSelf Assessment Module (SAM)
 : No\nInstructors:László Tabár, M.D., F.A.C.R. (Hon).\nChristophe F
 rouge, M.D., Ph.D.Medical Director of Breast ImagingValley Radiologist
 s, an affiliate of Southwest Diagnostic ImagingPhoenix, Arizona\nA. Th
 omas Stavros, M.D., F.A.C.R.Sutter Pacific Women's Health Center, Sant
 a Rosa, CA\nGillian Newstead, M.D., F.A.C.R.Professor of RadiologyUniv
 ersity of Chicago Medical Center, Diagnostic Radiology\nRobert A. Schm
 idt, M.D.Professor of RadiologyUniversity of Chicago Medical Center, D
 iagnostic Radiology\nSpecialty Audience:Obstetrics / GynecologyRadiolo
 gySurgery\n\nFor more information visit https://community.radrounds.co
 m/events/multimodality-detection-and-diagnosis-of-breast-diseases-with
 -or
DTSTART:20120508T040000Z
DTEND:20120513T035900Z
CATEGORIES:radiology
LOCATION:The M Resort Spa and Casino
WEBSITE:http://www.themresort.com/
URL:http://www.themresort.com/
CONTACT:(702) 797-1000
ORGANIZER:Mammography Education, Inc.
ATTACH;FMTTYPE="image/jpeg":
ATTENDEE;ROLE=REQ-PARTICIPANT;PARTSTAT=ACCEPTED;RSVP=TRUE;CN="radRound
 s Radiology Events":https://community.radrounds.com/profile/radRoundsR
 adiologyEvents
END:VEVENT
END:VCALENDAR
