BEGIN:VCALENDAR
PRODID:NingEventWidget-v1
VERSION:2.0
METHOD:PUBLISH
BEGIN:VEVENT
UID:1791588:Event:170046
DTSTAMP:20260422T003051Z
SUMMARY:MSK Ultrasound Applications for Regenerative Medicine Techniqu
 es: The Upper Extremities
DESCRIPTION:MSK Ultrasound Applications for Regenerative Medicine Tech
 niques: The Upper Extremities\nThis intermediate to advanced level MSK
  ultrasound program is designed to expand and update skills to integra
 te ultrasound-guided regenerative medicine techniques into clinical pr
 actice. Taught by world-renowned regenerative medicine and ultrasound 
 experts, the program offers evidence based lectures on a variety of re
 generative techniques, combined with extensive hands-on scanning of li
 ve models and guided injections of human cadaveric specimens. Particip
 ants will have an opportunity to prepare regenerative injectables and 
 to practice ultrasound-guided injections for each of the target areas 
 of the upper extremity.\nObjectives\n\nIdentify anatomy and pathoanato
 my of the upper extremity joints (tendons, ligaments, muscle/fascia, a
 nd nerves).\nOutline the biology and evidence for use of various regen
 erative substances.\nState when, why, and how to integrate regenerativ
 e medicine as a practical treatment option.\nPrepare injectables for p
 erforming ultrasound-guided regenerative medicine techniques.\nList re
 generative medicine targets for the shoulder, elbow, hand and wrist.\n
 Outline post procedural protocols for upper extremity regenerative pro
 cedures\nIntegrate ultrasound-guided regenerative medicine techniques 
 into clinical practice.\n\n\n\nTopics\n\nOverview of anatomy and patho
 anatomy of the upper extremity\nBiology and Evidence for Regenerative 
 Substances:\n- Dextrose Prolotherapy\n- Platelet Rich Plasma (PRP)\n- 
 Bone Marrow Aspirate (BMA)\n- Lipoaspirate\n- Amniotic Membrane and Ce
 lls\nEssentials of US Guided Regenerative Medicine:\n- Essential need 
 for an accurate diagnosis\n- US appearance of various structures – s
 kin to bone\n- Ultrasound guided injection techniques\n- Post procedur
 e protocols for regenerative medicine\n- Nutritional optimization for 
 soft tissue healing and chondroprotection\nPreparing Dextrose and Amni
 otic Membrane Cell Injectables\nRegenerative Medicine of the shoulder,
  elbow, hand and wrist\nHands-On Workshops: preparing injectables, liv
 e models, and human cadaveric specimens for regenerative medicine tech
 niques\n\n\n\nFor more information visit https://community.radrounds.c
 om/events/msk-ultrasound-applications-for-regenerative-medicine-techni
 ques
DTSTART:20170518T110000Z
DTEND:20170520T210000Z
CATEGORIES:cme, conference
LOCATION:Gulfcoast Ultrasound Institute
WEBSITE:https://www.gcus.com/courses/about.asp?course=1139/MSK-Ultraso
 und-Applications-for-Regenerative-Medicine-Techniques:-The-Upper-Extre
 mities
URL:https://www.gcus.com/courses/about.asp?course=1139/MSK-Ultrasound-
 Applications-for-Regenerative-Medicine-Techniques:-The-Upper-Extremiti
 es
CONTACT:17273634500
ORGANIZER:GCUS
ATTACH;FMTTYPE="image/jpeg":http://storage.ning.com/topology/rest/1.0/
 file/get/1044771781?profile=original
ATTENDEE;ROLE=REQ-PARTICIPANT;PARTSTAT=ACCEPTED;RSVP=TRUE;CN="Casey Gr
 een":https://community.radrounds.com/profile/JamesSalame
END:VEVENT
END:VCALENDAR
