BEGIN:VCALENDAR
PRODID:NingEventWidget-v1
VERSION:2.0
METHOD:PUBLISH
BEGIN:VEVENT
UID:1791588:Event:164848
DTSTAMP:20260421T114314Z
SUMMARY:MSK Scanning Skills Workshop
DESCRIPTION:The Musculoskeletal Scanning Skills Workshop is taught by 
 leading MSK ultrasound experts. This one day program is designed to re
 inforce and improve scanning skills for introductory musculoskeletal u
 ltrasound applications. Extensive hands-on scanning featuring a 3:1 ra
 tio with live models and inanimate phantoms, for a realistic training 
 experience and to improve scanning proficiency. The Scanning Skills Wo
 rkshop provides additional skills training to begin integrating the te
 chniques learned into clinical practice.\n\nFor more information visit
  https://community.radrounds.com/events/msk-scanning-skills-workshop
DTSTART:20161015T040000Z
DTEND:20161016T035900Z
CATEGORIES:ultrasound, cme, seminar
LOCATION:Gulfcoast Ultrasound Institute, Inc.
WEBSITE:https://www.gcus.com/courses/about.asp?course=980/MSK-Scanning
 -Skills-Workshop
URL:https://www.gcus.com/courses/about.asp?course=980/MSK-Scanning-Ski
 lls-Workshop
CONTACT:800-619-1900
ORGANIZER;CN="Casey Green":https://community.radrounds.com/profile/Jam
 esSalame
ATTACH;FMTTYPE="image/jpeg":
ATTENDEE;ROLE=REQ-PARTICIPANT;PARTSTAT=ACCEPTED;RSVP=TRUE;CN="Casey Gr
 een":https://community.radrounds.com/profile/JamesSalame
END:VEVENT
END:VCALENDAR
