BEGIN:VCALENDAR
PRODID:NingEventWidget-v1
VERSION:2.0
METHOD:PUBLISH
BEGIN:VEVENT
UID:1791588:Event:170233
DTSTAMP:20260423T170454Z
SUMMARY:MSK Scanning Skills Workshop
DESCRIPTION:The Musculoskeletal Scanning Skills Workshop is taught by 
 leading MSK ultrasound experts. This two day program is designed to re
 inforce and improve scanning skills for introductory musculoskeletal u
 ltrasound applications. Extensive hands-on scanning featuring a 3:1 ra
 tio with live models and inanimate phantoms, for a realistic training 
 experience and to improve scanning proficiency. The Scanning Skills Wo
 rkshop provides additional skills training to begin integrating the te
 chniques learned into clinical practice.\n\nObjectives\n\nIncrease kno
 wledge and skills to perform ultrasound examinations (specific exams b
 ased on specialty track selected).\nDemonstrate appropriate scan techn
 iques and protocols for performing ultrasound examinations.\nImprove s
 canning skills and increase diagnostic confidence.\nPerform examinatio
 ns under supervised conditions to help fulfill credentialing and/or in
 dividual certification requirements\n\n\nFor more information visit ht
 tps://community.radrounds.com/events/msk-scanning-skills-workshop-1
DTSTART:20170927T110000Z
DTEND:20170928T210000Z
CATEGORIES:cme, conference
LOCATION:Gulfcoast Ultrasound Institute
WEBSITE:https://www.gcus.com/courses/about.asp?course=1123/MSK-Scannin
 g-Skills-Workshop
URL:https://www.gcus.com/courses/about.asp?course=1123/MSK-Scanning-Sk
 ills-Workshop
CONTACT:17273634500
ORGANIZER:GCUS
ATTACH;FMTTYPE="image/jpeg":http://storage.ning.com/topology/rest/1.0/
 file/get/1044771920?profile=original
ATTENDEE;ROLE=REQ-PARTICIPANT;PARTSTAT=ACCEPTED;RSVP=TRUE;CN="Casey Gr
 een":https://community.radrounds.com/profile/JamesSalame
END:VEVENT
END:VCALENDAR
