BEGIN:VCALENDAR
PRODID:NingEventWidget-v1
VERSION:2.0
METHOD:PUBLISH
BEGIN:VEVENT
UID:1791588:Event:116237
DTSTAMP:20260423T052150Z
SUMMARY:MRI Training Course for Technologists
DESCRIPTION:MRI Training Course for Technologists Monday, April 30, 20
 12 - Friday, May 11, 2012MTMI Training Center Waukesha, Wisconsin (WI)
 , United StatesProvided by Medical Technology Management Institute (MT
 MI)  CME Provider: Medical Technology Management Institute (MTMI) 2090
 0 Swenson DriveSuite 650Waukesha, Wisconsin (WI) 53186United States\nT
 oll Free: (800) 765-6864Phone: (262) 717-9797Fax: (262) 717-9171\n\nCo
 nference Center:MTMI Training Center 20900 Swenson DriveSuite 650Wauke
 sha, Wisconsin (WI) 53186United States\nToll Free: (800) 765-6864Phone
 : (262) 717-9797Fax: (262) 717-9171\n Description:At the completion of
  this course,participants will be able to:\n-Explain and review the ba
 sic principles of magnetic resonance imaging.\n-Utilize appropriate MR
  pulse sequences in clinical imaging.\n-Recognize and minimize MRI art
 ifacts.\n-Incorporate current knowledge of biological effects and safe
 ty considerations when working in the MR environment.\n-Describe techn
 iques in manipulating MR parameters to optimize image quality.\n-Expla
 in proper selection and usage of MR coils to optimize image quality.\n
 Self Assessment Module (SAM): No\nInstructors:Paul Worthington, BS, RT
 (R)(MR)Nils Anderson, RT(R)(MR)Vera Miller, RT(R)(MR)J. Ed Barnes, Ph.
 D., FACRYu Liu, Ph.D.\nSpecialty Audience:Radiology\n\nFor more inform
 ation visit https://community.radrounds.com/events/mri-training-course
 -for-technologists-5
DTSTART:20120430T040000Z
DTEND:20120512T035900Z
CATEGORIES:radiology
LOCATION:MTMI Training Center
WEBSITE:http://www.mtmi.net/
URL:http://www.mtmi.net/
CONTACT:(262) 717-9797
ORGANIZER:Medical Technology Management Institute (MTMI)
ATTACH;FMTTYPE="image/jpeg":
ATTENDEE;ROLE=REQ-PARTICIPANT;PARTSTAT=ACCEPTED;RSVP=TRUE;CN="radRound
 s Radiology Events":https://community.radrounds.com/profile/radRoundsR
 adiologyEvents
END:VEVENT
END:VCALENDAR
