BEGIN:VCALENDAR
PRODID:NingEventWidget-v1
VERSION:2.0
METHOD:PUBLISH
BEGIN:VEVENT
UID:1791588:Event:115581
DTSTAMP:20260425T100328Z
SUMMARY:MRI Training Course for Technologists
DESCRIPTION:MRI Training Course for Technologists Monday, January 16, 
 2012 - Friday, January 27, 2012MTMI Training Center Waukesha, Wisconsi
 n (WI), United StatesProvided by Medical Technology Management Institu
 te (MTMI)  CME Provider: Medical Technology Management Institute (MTMI
 ) 20900 Swenson DriveSuite 650Waukesha, Wisconsin (WI) 53186United Sta
 tes\nToll Free: (800) 765-6864Phone: (262) 717-9797Fax: (262) 717-9171
 \n\nConference Center:MTMI Training Center 20900 Swenson DriveSuite 65
 0Waukesha, Wisconsin (WI) 53186United States\nToll Free: (800) 765-686
 4Phone: (262) 717-9797Fax: (262) 717-9171\n Description:At the complet
 ion of this course, participants will be able to:\n-Explain and review
  the basic principles of magnetic resonance imaging.\n-Utilize appropr
 iate MR pulse sequences in clinical imaging.\n-Recognize and minimize 
 MRI artifacts.\n-Incorporate current knowledge of biological effects a
 nd safety considerations when working in the MR environment.\n-Describ
 e techniques in manipulating MR parameters to optimize image quality.\
 n-Explain proper selection and usage of MR coils to optimize image qua
 lity.\nSelf Assessment Module (SAM): No\nInstructors:Paul Worthington,
  BS, RT(R)(MR)Nils Anderson, RT(R)(MR)Vera Miller, RT(R)(MR)J. Ed Barn
 es, Ph.D., FACRYu Liu, Ph.D.\nSpecialty Audience:Radiology\n\nFor more
  information visit https://community.radrounds.com/events/mri-training
 -course-for-technologists-4
DTSTART:20120116T050000Z
DTEND:20120128T045900Z
CATEGORIES:radiology, training, course
LOCATION:MTMI Training Center
WEBSITE:
URL:
CONTACT:(262) 717-9797
ORGANIZER:Medical Technology Management Institute (MTMI)
ATTACH;FMTTYPE="image/jpeg":
ATTENDEE;ROLE=REQ-PARTICIPANT;PARTSTAT=ACCEPTED;RSVP=TRUE;CN="radRound
 s Radiology Events":https://community.radrounds.com/profile/radRoundsR
 adiologyEvents
END:VEVENT
END:VCALENDAR
