BEGIN:VCALENDAR
PRODID:NingEventWidget-v1
VERSION:2.0
METHOD:PUBLISH
BEGIN:VEVENT
UID:1791588:Event:186813
DTSTAMP:20260419T074951Z
SUMMARY:MRI Tissue Characteristics and Artifacts (Live Webinar)
DESCRIPTION:Understanding the tissue characteristics during different 
 phases of relaxation time is critical to being able to customize diagn
 ostic procedures that meet the needs for diagnosis.  You will learn t
 o understand the tissue characteristics during different phases of exc
 itation and relaxation.  You should be able to identify and understan
 d the most frequent causes of artifacts  in MRI upon completion of th
 is course. This course is designed to teach you the most need to know 
 information for the registry review exam.  However, anyone who wants 
 a better understanding or needs CE will enjoy this course.\nTissue Cha
 racteristics and Contrast Indications Equilibrium\n\nRelaxation times\
 nT1 longitudinal relaxation\nT1 exponential growth curve\nTransverse r
 elaxation\nT1 relaxation times\nT2 transverse relaxation\nT2 exponenti
 al decay curves\nTissue contrast parameters\n\nArtifacts\n\nArtifact c
 ategories\nArtifact types\nAppearance\nOrigins\nCause\nManagement solu
 tions\nMotion\nFlow\nAliasing/wraparound\nMetal\nChemical shift\nTrunc
 ation\nGibb’s\nRadiofrequency\nFree induction decay\nHerringbone\nNo
 nuniformity\nQuality control and artifacts\n\n\nFor more information v
 isit https://community.radrounds.com/events/mri-tissue-characteristics
 -and-artifacts-live-webinar
DTSTART:20190205T170000Z
DTEND:20190205T200000Z
CATEGORIES:live, webinar
LOCATION:Advanced Health Education Center
WEBSITE:https://store.aheconline.com/
URL:https://store.aheconline.com/
CONTACT:1(800) 239-1361
ORGANIZER:AHEC
ATTACH;FMTTYPE="image/jpeg":
ATTENDEE;ROLE=REQ-PARTICIPANT;PARTSTAT=ACCEPTED;RSVP=TRUE;CN="Larry Ca
 rney":https://community.radrounds.com/profile/LarryCarney
END:VEVENT
END:VCALENDAR
