BEGIN:VCALENDAR
PRODID:NingEventWidget-v1
VERSION:2.0
METHOD:PUBLISH
BEGIN:VEVENT
UID:1791588:Event:116147
DTSTAMP:20260423T204112Z
SUMMARY:MRI Symposium
DESCRIPTION:MRI Symposium Saturday, March 24, 2012 - Saturday, March 2
 4, 2012Wyndham Hotel Love Field Dallas, Texas (TX), United StatesProvi
 ded by Advanced Health Education Center  CME Provider: Advanced Health
  Education Center 8502 Tybor DriveHouston, Texas (TX) 77074United Stat
 es\nToll Free: (800) 239-1361Phone: (713) 772-0157Fax: (713) 772-0155\
 n\nConference Center:Wyndham Hotel Love Field 3300 W. Mockingbird Lane
 Dallas, Texas (TX) 75235United States\nPhone: (214) 357-8500\n Descrip
 tion:Join us for a one day conference planned for the today’s practi
 cing MRI Technologist with topics that are relevant to the technologis
 t’s daily practice. The cutting edge technology in MRI reflects the 
 “new face” of skills needed by today’s MRI Technologist. The fac
 ulty will touch on the explosion of new technology in MRI and reinforc
 e the fundamentals of how MRI is used in diagnosis and treatment plann
 ing. Mark the date you don't want to miss this day!\nCourse Topics •
  Conventinal Spin-Echo Sequence vs Turbo Spin-Echo Sequence• Inversi
 on Recovery Pulse Sequence• NSF: Nephrogenic Fibrosis• 3T Scanning
  Considerations• Social Media in the Imaging Department\nSelf Assess
 ment Module (SAM): No\nInstructors:Stephen Powers, BSRT, RT(R)(CT)(MR)
 \nSpecialty Audience:Radiology\n\nFor more information visit https://c
 ommunity.radrounds.com/events/mri-symposium
DTSTART:20120324T040000Z
DTEND:20120325T035900Z
CATEGORIES:radiology
LOCATION:Wyndham Hotel Love Field
WEBSITE:http://www.wyndham.com/hotels/DALAP/main.wnt
URL:http://www.wyndham.com/hotels/DALAP/main.wnt
CONTACT:(214) 357-8500
ORGANIZER:Advanced Health Education Center
ATTACH;FMTTYPE="image/jpeg":
ATTENDEE;ROLE=REQ-PARTICIPANT;PARTSTAT=ACCEPTED;RSVP=TRUE;CN="radRound
 s Radiology Events":https://community.radrounds.com/profile/radRoundsR
 adiologyEvents
END:VEVENT
END:VCALENDAR
