BEGIN:VCALENDAR
PRODID:NingEventWidget-v1
VERSION:2.0
METHOD:PUBLISH
BEGIN:VEVENT
UID:1791588:Event:186821
DTSTAMP:20260420T061143Z
SUMMARY:MRI Sequence Parameters and Options
DESCRIPTION:Course Topics:\n·Fast Imaging Sequences\n\nFast imaging s
 trategy\nFast spin echo pulse sequence design\nTR, ETE, ETL, ETS, TI\n
 Parameter change effects\nFast gradient echo pulse sequence design\nPa
 rameter change effects\nK-space segmentation\nImaging parameters affec
 ting contrast\nImaging parameters that affect spatial resolution\nImag
 ing parameters affecting signal-to-noise\n\n \n\nFor more information
  visit https://community.radrounds.com/events/mri-sequence-parameters-
 and-options
DTSTART:20190213T230000Z
DTEND:20190214T010000Z
CATEGORIES:live, webinar
LOCATION:Advanced Health Education Center
WEBSITE:https://store.aheconline.com/
URL:https://store.aheconline.com/
CONTACT:1(800) 239-1361
ORGANIZER:AHEC
ATTACH;FMTTYPE="image/jpeg":
ATTENDEE;ROLE=REQ-PARTICIPANT;PARTSTAT=ACCEPTED;RSVP=TRUE;CN="Larry Ca
 rney":https://community.radrounds.com/profile/LarryCarney
END:VEVENT
END:VCALENDAR
