BEGIN:VCALENDAR
PRODID:NingEventWidget-v1
VERSION:2.0
METHOD:PUBLISH
BEGIN:VEVENT
UID:1791588:Event:115699
DTSTAMP:20260424T072828Z
SUMMARY:MRI Registry Review
DESCRIPTION:MRI Registry Review Saturday, February 25, 2012 - Sunday, 
 February 26, 2012Advanced Health Education Center Houston, Texas (TX),
  United StatesProvided by Advanced Health Education Center  CME Provid
 er: Advanced Health Education Center 8502 Tybor DriveHouston, Texas (T
 X) 77074United States\nToll Free: (800) 239-1361Phone: (713) 772-0157F
 ax: (713) 772-0155\n\nConference Center:Advanced Health Education Cent
 er 8502 Tybor DriveHouston, Texas (TX) 77074United States\nPhone: (800
 ) 239-1361\nDescription:You can prepare for the advanced level MRI exa
 mination through this specially designed workshop. A comprehensive rev
 iew will be accomplished during this 16-hour course. You will learn th
 e technical contents as well as ARRT examination information to prepar
 e for the exam. Students have used this class to successfully complete
  the exam. Previous students who have taken the exam have told us the 
 course is well designed to accomplish this goal. A study guide is incl
 uded for reference. You won’t want to miss this opportunity!\nCourse
  Topics Day 1 Fundamental Principles of Image Formation; Instrumentati
 on; Magnetism, Magnets, and Magnet Design; Shielding, Shimming; Gradie
 nts; Fundamental MRI Principles; Nuclear characteristics; Creating the
  MR signal; Precession, Larmor Equation, Resonance; Tissue characteris
 tics; Relaxation times and curves; T1, T2, T2*, PD Contrast; Patient C
 are and Safety\nDay 2 Pulse sequence design; T1-, T2-, T2*-, PD-weight
 ed images; Spin Echo; Gradient Recalled Echo, in and out of phase; Coh
 erent, incoherent; Inversion Recovery; STIR, FLAIR; Fast Spin Echo, Fa
 st Field Echo; MR Angiography; Fat Saturation, Fat Suppression; Artifa
 ct Reduction; Spatial Localization; Gradient Design; Spatial Encoding;
  K Space, Data Acquisition; Image Formation; Sampling Time; Sampling R
 ate: Sequence Parameters and Options; Image Quality; Image Optimizatio
 n; Contrast Discrimination; Spatial Resolution; Signal to Noise\nSelf 
 Assessment Module (SAM): No\nInstructors:Gregory Wheeler, BS, RT(R)(MR
 )\nSpecialty Audience:Radiology\n\nFor more information visit https://
 community.radrounds.com/events/mri-registry-review-526
DTSTART:20120225T050000Z
DTEND:20120227T045900Z
CATEGORIES:radiology
LOCATION:Advanced Health Education Center
WEBSITE:http://aheconline.com/
URL:http://aheconline.com/
CONTACT:(800) 239-1361
ORGANIZER:Advanced Health Education Center
ATTACH;FMTTYPE="image/jpeg":
ATTENDEE;ROLE=REQ-PARTICIPANT;PARTSTAT=ACCEPTED;RSVP=TRUE;CN="radRound
 s Radiology Events":https://community.radrounds.com/profile/radRoundsR
 adiologyEvents
END:VEVENT
END:VCALENDAR
