BEGIN:VCALENDAR
PRODID:NingEventWidget-v1
VERSION:2.0
METHOD:PUBLISH
BEGIN:VEVENT
UID:1791588:Event:123328
DTSTAMP:20260421T044007Z
SUMMARY:MRI Registry Review
DESCRIPTION:You can prepare for the advanced level MRI examination thr
 ough this specially designed workshop. A comprehensive review will be 
 accomplished during this 16-hour course. You will learn the technical 
 contents as well as ARRT examination information to prepare for the ex
 am. Students have used this class to successfully complete the exam. P
 revious students who have taken the exam have told us the course is we
 ll designed to accomplish this goal. A study guide is included for ref
 erence.  You won’t want to miss this opportunity!\n\nFor more infor
 mation visit https://community.radrounds.com/events/mri-registry-revie
 w-173
DTSTART:20120609T120000Z
DTEND:20120610T201500Z
CATEGORIES:ce, course
LOCATION:Wyndham Hotel Love Field
WEBSITE:http://store.aheconline.com/DisplayDetail.aspx?pid=7228
URL:http://store.aheconline.com/DisplayDetail.aspx?pid=7228
CONTACT:800-239-1361
ORGANIZER:Advanced Health Education Center
ATTACH;FMTTYPE="image/jpeg":
ATTENDEE;ROLE=REQ-PARTICIPANT;PARTSTAT=ACCEPTED;RSVP=TRUE;CN="Larry Ca
 rney":https://community.radrounds.com/profile/LarryCarney
END:VEVENT
END:VCALENDAR
