BEGIN:VCALENDAR
PRODID:NingEventWidget-v1
VERSION:2.0
METHOD:PUBLISH
BEGIN:VEVENT
UID:1791588:Event:194691
DTSTAMP:20260424T062717Z
SUMMARY:MRI Prep and Exam Review (Live Webinar)
DESCRIPTION:Course Materials Information for MRI Comprehensive Overvie
 w Live Simulcast\nAHEC will provide a link to access the course materi
 als for this seminar. It is up to the student to print the course mate
 rials. \nCourse Description:\nIf you are planning on sitting for the 
 MRI exam and need structured education that will also act as a great r
 eview, this is the course for you!  You will be presented with a broa
 d fundamental knowledge of the underlying principles of MRI, equipment
 , associated terminology, imaging properties, spatial localization tec
 hniques, understanding artifacts, sequence parameters and protocols, i
 maging procedures, tissue characteristics, data acquisition, data mani
 pulation and patient care and safety.  You will have an expert MRI te
 chnologist to answer your questions and lead you through the must know
  information for the exam.\n\nFor more information visit https://commu
 nity.radrounds.com/events/mri-prep-and-exam-review-live-webinar
DTSTART:20200222T140000Z
DTEND:20200223T213000Z
CATEGORIES:live, webinar
LOCATION:Advanced Health Education Center
WEBSITE:http://store.aheconline.com
URL:http://store.aheconline.com
CONTACT:1 (800) 239-1361
ORGANIZER:AHEC
ATTACH;FMTTYPE="image/jpeg":
ATTENDEE;ROLE=REQ-PARTICIPANT;PARTSTAT=ACCEPTED;RSVP=TRUE;CN="Larry Ca
 rney":https://community.radrounds.com/profile/LarryCarney
END:VEVENT
END:VCALENDAR
