BEGIN:VCALENDAR
PRODID:NingEventWidget-v1
VERSION:2.0
METHOD:PUBLISH
BEGIN:VEVENT
UID:1791588:Event:185279
DTSTAMP:20260420T122720Z
SUMMARY:MRI Prep and Exam Review (Live Simulcast)
DESCRIPTION:Course Materials Information for MRI Comprehensive Overvie
 w Live Simulcast\nAHEC will provide a link to access the course materi
 als for this seminar. It is up to the student to print the course mate
 rials. \nCourse Description:\nIf you are planning on sitting for the 
 MRI exam and need structured education that will also act as a great r
 eview, this is the course for you!  You will be presented with a broa
 d fundamental knowledge of the underlying principles of MRI, equipment
 , associated terminology, imaging properties, spatial localization tec
 hniques, understanding artifacts, sequence parameters and protocols, i
 maging procedures, tissue characteristics, data acquisition, data mani
 pulation and patient care and safety.  You will have an expert MRI te
 chnologist to answer your questions and lead you through the must know
  information for the exam.\nCourse Topics\n\nPatient Care and Safety\n
 Physical Principles of Imaging Information\nFundamentals\nSpatial Loca
 lization\nArtifacts\nImaging Procedures Part 1\nTissue Characteristics
  and Contrast Indications\nImaging Procedures Part 2\nData Acquisition
 \nData Manipulation\nSequence Parameters and Options\nSequence Paramet
 ers Protocol Selection\n\n\nFor more information visit https://communi
 ty.radrounds.com/events/mri-prep-and-exam-review-live-simulcast-7
DTSTART:20191109T140000Z
DTEND:20191110T213000Z
CATEGORIES:live, simulcast
LOCATION:Advanced Health Education Center
WEBSITE:http://store.aheconline.com
URL:http://store.aheconline.com
CONTACT:800-239-1361
ORGANIZER;CN="Larry Carney":https://community.radrounds.com/profile/La
 rryCarney
ATTACH;FMTTYPE="image/jpeg":
ATTENDEE;ROLE=REQ-PARTICIPANT;PARTSTAT=ACCEPTED;RSVP=TRUE;CN="Larry Ca
 rney":https://community.radrounds.com/profile/LarryCarney
END:VEVENT
END:VCALENDAR
