BEGIN:VCALENDAR
PRODID:NingEventWidget-v1
VERSION:2.0
METHOD:PUBLISH
BEGIN:VEVENT
UID:1791588:Event:194693
DTSTAMP:20260424T032559Z
SUMMARY:MRI Prep and Exam Review (Live Event)
DESCRIPTION:Course Description:\nIf you are planning on sitting for th
 e MRI exam and need structured education that will also act as a great
  review, this is the course for you!  You will be presented with a br
 oad fundamental knowledge of the underlying principles of MRI, equipme
 nt, associated terminology, imaging properties, spatial localization t
 echniques, understanding artifacts, sequence parameters and protocols,
  imaging procedures, tissue characteristics, data acquisition, data ma
 nipulation and patient care and safety.  You will have an expert MRI 
 technologist to answer your questions and lead you through the must kn
 ow information for the exam.\n\nFor more information visit https://com
 munity.radrounds.com/events/mri-prep-and-exam-review-live-event-9
DTSTART:20200222T140000Z
DTEND:20200223T213000Z
CATEGORIES:live, event
LOCATION:Advanced Health Education Center
WEBSITE:http://store.aheconline.com
URL:http://store.aheconline.com
CONTACT:1 (800) 239-1361
ORGANIZER:AHEC
ATTACH;FMTTYPE="image/jpeg":
ATTENDEE;ROLE=REQ-PARTICIPANT;PARTSTAT=ACCEPTED;RSVP=TRUE;CN="Larry Ca
 rney":https://community.radrounds.com/profile/LarryCarney
END:VEVENT
END:VCALENDAR
