BEGIN:VCALENDAR
PRODID:NingEventWidget-v1
VERSION:2.0
METHOD:PUBLISH
BEGIN:VEVENT
UID:1791588:Event:184979
DTSTAMP:20260420T152812Z
SUMMARY:MRI Prep and Exam Review (Live Event)
DESCRIPTION:Course Topics\n\nPatient Care and Safety\nPhysical Princip
 les of Imaging Information\nFundamentals\nSpatial Localization\nArtifa
 cts\nImaging Procedures Part 1\nTissue Characteristics and Contrast In
 dications\nImaging Procedures Part 2\nData Acquisition\nData Manipulat
 ion\nSequence Parameters and Options\nSequence Parameters Protocol Sel
 ection\n\n\nFor more information visit https://community.radrounds.com
 /events/mri-prep-and-exam-review-live-event-7
DTSTART:20191109T140000Z
DTEND:20191110T213000Z
CATEGORIES:live, event
LOCATION:Advanced Health Education Center
WEBSITE:http://store.aheconline.com
URL:http://store.aheconline.com
CONTACT:800-239-1361
ORGANIZER;CN="Larry Carney":https://community.radrounds.com/profile/La
 rryCarney
ATTACH;FMTTYPE="image/jpeg":
ATTENDEE;ROLE=REQ-PARTICIPANT;PARTSTAT=ACCEPTED;RSVP=TRUE;CN="Larry Ca
 rney":https://community.radrounds.com/profile/LarryCarney
END:VEVENT
END:VCALENDAR
