BEGIN:VCALENDAR
PRODID:NingEventWidget-v1
VERSION:2.0
METHOD:PUBLISH
BEGIN:VEVENT
UID:1791588:Event:177536
DTSTAMP:20260421T124103Z
SUMMARY:MRI Prep and Exam Review (Live Event)
DESCRIPTION:If you are planning on sitting for the MRI exam and need s
 tructured education that will also act as a great review, this is the 
 course for you!  You will be presented with a broad fundamental knowl
 edge of the underlying principles of MRI, equipment, associated termin
 ology, imaging properties, spatial localization techniques, understand
 ing artifacts, sequence parameters and protocols, imaging procedures, 
 tissue characteristics, data acquisition, data manipulation and patien
 t care and safety.  You will have an expert CT technologist to answer
  your questions and lead you through the must know information for the
  exam.\n\nFor more information visit https://community.radrounds.com/e
 vents/mri-prep-and-exam-review-live-event-2
DTSTART:20180303T140000Z
DTEND:20180304T213000Z
CATEGORIES:live, event
LOCATION:Advanced Health Education Center
WEBSITE:https://store.aheconline.com/index.php?route=product/product&a
 mp;path=59&amp;product_id=3455
URL:https://store.aheconline.com/index.php?route=product/product&amp;p
 ath=59&amp;product_id=3455
CONTACT:800-239-1361
ORGANIZER;CN="Larry Carney":https://community.radrounds.com/profile/La
 rryCarney
ATTACH;FMTTYPE="image/jpeg":
ATTENDEE;ROLE=REQ-PARTICIPANT;PARTSTAT=ACCEPTED;RSVP=TRUE;CN="Larry Ca
 rney":https://community.radrounds.com/profile/LarryCarney
END:VEVENT
END:VCALENDAR
