BEGIN:VCALENDAR
PRODID:NingEventWidget-v1
VERSION:2.0
METHOD:PUBLISH
BEGIN:VEVENT
UID:1791588:Event:172900
DTSTAMP:20260419T100018Z
SUMMARY:MRI Prep and Exam Review (Live Event)
DESCRIPTION:Course Topics\n\nPatient Care and Safety\nPhysical Princip
 les of Imaging Information\nFundamentals\nSpatial Localization\nArtifa
 cts\nImaging Procedures Part 1\nTissue Characteristics and Contrast In
 dications\nImaging Procedures Part 2\nData Acquisition\nData Manipulat
 ion\nSequence Parameters and Options\nSequence Parameters Protocol Sel
 ection\n\n\nFor more information visit https://community.radrounds.com
 /events/mri-prep-and-exam-review-live-event-1
DTSTART:20171111T140000Z
DTEND:20171112T213000Z
CATEGORIES:live, event
LOCATION:Advanced Health Education Center
WEBSITE:https://store.aheconline.com/index.php?route=product/product&p
 ath=59&product_id=2914
URL:https://store.aheconline.com/index.php?route=product/product&path=
 59&product_id=2914
CONTACT:800-239-1361
ORGANIZER;CN="Larry Carney":https://community.radrounds.com/profile/La
 rryCarney
ATTACH;FMTTYPE="image/jpeg":
ATTENDEE;ROLE=REQ-PARTICIPANT;PARTSTAT=ACCEPTED;RSVP=TRUE;CN="Larry Ca
 rney":https://community.radrounds.com/profile/LarryCarney
END:VEVENT
END:VCALENDAR
