BEGIN:VCALENDAR
PRODID:NingEventWidget-v1
VERSION:2.0
METHOD:PUBLISH
BEGIN:VEVENT
UID:1791588:Event:117387
DTSTAMP:20260423T001446Z
SUMMARY:MRI Fellowship - Clinical
DESCRIPTION:MRI Fellowship - Clinical Monday, May 14, 2012 - Friday, M
 ay 18, 2012Advanced Health Education Center Houston, Texas (TX), Unite
 d StatesProvided by Advanced Health Education Center  CME Provider: Ad
 vanced Health Education Center 8502 Tybor DriveHouston, Texas (TX) 770
 74United States\nToll Free: (800) 239-1361Phone: (713) 772-0157Fax: (7
 13) 772-0155\n\nConference Center:Advanced Health Education Center 850
 2 Tybor DriveHouston, Texas (TX) 77074United States\nPhone: (800) 239-
 1361\n Description:CLINICAL FELLOWSHIP INFORMATION\nAdvanced Health Ed
 ucation Center offers clinical fellowship rotations as an enhancement 
 to the preceding theory course in the selected modality. AHEC offers c
 linical fellowships to registered radiographers (RT, R) In the modalit
 ies of Mammography, Computed Tomography, Magnetic Resonance Imaging an
 d Cardiovascular Radiography. Fellowships are conducted In the Houston
 , TX area in hospitals, imaging facilities and urgent care facilities.
  The length of clinical fellowship training will vary by the modality 
 selected.\n**No CE credit is awarded for clinical hours. In order to r
 eceive a certificate documenting clinical attendance, technologists mu
 st return their timesheet and copies of their clinical competency form
 s to the AHEC office via mail or fax to the attention of the respectiv
 e fellowship coordinator.\n\nSelf Assessment Module (SAM): No\nInstruc
 tors:Gregory Wheeler, BS, RT(R)(MR)\nSpecialty Audience:Radiology\n\nF
 or more information visit https://community.radrounds.com/events/mri-f
 ellowship-clinical-8
DTSTART:20120514T040000Z
DTEND:20120519T035900Z
CATEGORIES:radiology
LOCATION:Advanced Health Education Center
WEBSITE:http://aheconline.com/
URL:http://aheconline.com/
CONTACT:(800) 239-1361
ORGANIZER:http://aheconline.com/
ATTACH;FMTTYPE="image/jpeg":
ATTENDEE;ROLE=REQ-PARTICIPANT;PARTSTAT=ACCEPTED;RSVP=TRUE;CN="radRound
 s Radiology Events":https://community.radrounds.com/profile/radRoundsR
 adiologyEvents
END:VEVENT
END:VCALENDAR
