BEGIN:VCALENDAR
PRODID:NingEventWidget-v1
VERSION:2.0
METHOD:PUBLISH
BEGIN:VEVENT
UID:1791588:Event:117723
DTSTAMP:20260422T145713Z
SUMMARY:MRI Fellowship - Clinical
DESCRIPTION:MRI Fellowship - Clinical Monday, May 07, 2012 - Friday, M
 ay 11, 2012Advanced Health Education Center Houston, Texas (TX), Unite
 d StatesProvided by Advanced Health Education Center  CME Provider: Ad
 vanced Health Education Center 8502 Tybor DriveHouston, Texas (TX) 770
 74United States\nToll Free: (800) 239-1361Phone: (713) 772-0157Fax: (7
 13) 772-0155 Conference Center:Advanced Health Education Center 8502 T
 ybor DriveHouston, Texas (TX) 77074United States\nPhone: (800) 239-136
 1\nVisit the CME Course Webpage  Visit the Conference Center Webpage  
  Description:CLINICAL FELLOWSHIP INFORMATION\nAdvanced Health Educatio
 n Center offers clinical fellowship rotations as an enhancement to the
  preceding theory course in the selected modality. AHEC offers clinica
 l fellowships to registered radiographers (RT, R) In the modalities of
  Mammography, Computed Tomography, Magnetic Resonance Imaging and Card
 iovascular Radiography. Fellowships are conducted In the Houston, TX a
 rea in hospitals, imaging facilities and urgent care facilities. The l
 ength of clinical fellowship training will vary by the modality select
 ed.\n**No CE credit is awarded for clinical hours. In order to receive
  a certificate documenting clinical attendance, technologists must ret
 urn their timesheet and copies of their clinical competency forms to t
 he AHEC office via mail or fax to the attention of the respective fell
 owship coordinator.\n\nSelf Assessment Module (SAM): No\nInstructors:G
 regory Wheeler, BS, RT(R)(MR)\nSpecialty Audience:Radiology\n\nFor mor
 e information visit https://community.radrounds.com/events/mri-fellows
 hip-clinical-7
DTSTART:20120507T040000Z
DTEND:20120512T035900Z
CATEGORIES:radiology
LOCATION:Advanced Health Education Center
WEBSITE:http://aheconline.com/
URL:http://aheconline.com/
CONTACT:(800) 239-1361
ORGANIZER:Advanced Health Education Center
ATTACH;FMTTYPE="image/jpeg":
ATTENDEE;ROLE=REQ-PARTICIPANT;PARTSTAT=ACCEPTED;RSVP=TRUE;CN="radRound
 s Radiology Events":https://community.radrounds.com/profile/radRoundsR
 adiologyEvents
END:VEVENT
END:VCALENDAR
