BEGIN:VCALENDAR
PRODID:NingEventWidget-v1
VERSION:2.0
METHOD:PUBLISH
BEGIN:VEVENT
UID:1791588:Event:117507
DTSTAMP:20260422T014006Z
SUMMARY:MRI Fellowship - Clinical
DESCRIPTION:MRI Fellowship - Clinical Monday, April 30, 2012 - Friday,
  May 04, 2012Advanced Health Education Center Houston, Texas (TX), Uni
 ted StatesProvided by Advanced Health Education Center  CME Provider: 
 Advanced Health Education Center 8502 Tybor DriveHouston, Texas (TX) 7
 7074United States\nToll Free: (800) 239-1361Phone: (713) 772-0157Fax: 
 (713) 772-0155 Conference Center:Advanced Health Education Center 8502
  Tybor DriveHouston, Texas (TX) 77074United States\nPhone: (800) 239-1
 361\n Description:CLINICAL FELLOWSHIP INFORMATIONAdvanced Health Educa
 tion Center offers clinical fellowship rotations as an enhancement to 
 the preceding theory course in the selected modality. AHEC offers clin
 ical fellowships to registered radiographers (RT, R) In the modalities
  of Mammography, Computed Tomography, Magnetic Resonance Imaging and C
 ardiovascular Radiography. Fellowships are conducted In the Houston, T
 X area in hospitals, imaging facilities and urgent care facilities. Th
 e length of clinical fellowship training will vary by the modality sel
 ected. **No CE credit is awarded for clinical hours. In order to recei
 ve a certificate documenting clinical attendance, technologists must r
 eturn their timesheet and copies of their clinical competency forms to
  the AHEC office via mail or fax to the attention of the respective fe
 llowship coordinator.\n\nSelf Assessment Module (SAM): No\nInstructors
 : Gregory Wheeler, BS, RT(R)(MR)\nSpecialty Audience: Radiology\n\nF
 or more information visit https://community.radrounds.com/events/mri-f
 ellowship-clinical-6
DTSTART:20120430T040000Z
DTEND:20120505T035900Z
CATEGORIES:radiology
LOCATION:Advanced Health Education Center
WEBSITE:http://aheconline.com/
URL:http://aheconline.com/
CONTACT:(800) 239-1361
ORGANIZER:http://aheconline.com/
ATTACH;FMTTYPE="image/jpeg":
ATTENDEE;ROLE=REQ-PARTICIPANT;PARTSTAT=ACCEPTED;RSVP=TRUE;CN="radRound
 s Radiology Events":https://community.radrounds.com/profile/radRoundsR
 adiologyEvents
END:VEVENT
END:VCALENDAR
