BEGIN:VCALENDAR
PRODID:NingEventWidget-v1
VERSION:2.0
METHOD:PUBLISH
BEGIN:VEVENT
UID:1791588:Event:158583
DTSTAMP:20260421T205556Z
SUMMARY:MRI Exam Review
DESCRIPTION:Be prepared! Not a motto just for boy scouts! Whether an a
 dvanced level examination is in your future, or you would like to form
 alize your understanding of the theory and complex of MRI this worksho
 p will benefit you. The workshop provides students with a thorough rev
 iew of MRI theory as well as relevant clinical applications that can q
 uickly be transferred to the workplace. The content is reflective of t
 he ARRT content specifications and provides ample opportunity for stud
 ents to interact with expert MRI faculty with proven success in prepar
 ing students for advanced level practices.\n\nFor more information vis
 it https://community.radrounds.com/events/mri-exam-review-2
DTSTART:20150221T050000Z
DTEND:20150223T045900Z
CATEGORIES:seminar
LOCATION:AHEC
WEBSITE:https://store.aheconline.com/index.php?route=product/product&f
 ilter_name=MRI%20EXAM%20REVIEW&product_id=1614
URL:https://store.aheconline.com/index.php?route=product/product&filte
 r_name=MRI%20EXAM%20REVIEW&product_id=1614
CONTACT:713-772-0157
ORGANIZER:LARRY CARNEY
ATTACH;FMTTYPE="image/jpeg":
ATTENDEE;ROLE=REQ-PARTICIPANT;PARTSTAT=ACCEPTED;RSVP=TRUE;CN="Larry Ca
 rney":https://community.radrounds.com/profile/LarryCarney
END:VEVENT
END:VCALENDAR
