BEGIN:VCALENDAR
PRODID:NingEventWidget-v1
VERSION:2.0
METHOD:PUBLISH
BEGIN:VEVENT
UID:1791588:Event:158292
DTSTAMP:20260420T235838Z
SUMMARY:MRI EXAM REVIEW
DESCRIPTION:Register early and save! Please register early and reserve
  your place by providing payment to avoid an additional $25 fee requir
 ed for registrations given within two (2) weeks of the course.\nBe pre
 pared! Not a motto just for boy scouts! Whether an advanced level exam
 ination is in your future, or you would like to formalize your underst
 anding of the theory and complex of MRI this workshop will benefit you
 . The workshop provides students with a thorough review of MRI theory 
 as well as relevant clinical applications that can quickly be transfer
 red to the workplace. The content is reflective of the ARRT content sp
 ecifications and provides ample opportunity for students to interact w
 ith expert MRI faculty with proven success in preparing students for a
 dvanced level practices.\nCourse Topics\nDay 1\n\nFundamental Principl
 es of Image Formation\nInstrumentation\nMagnetism, Magnets, and Magnet
 \nDesign\nShielding, Shimming\nGradients\nFundamental MRI Principles\n
 Nuclear Characteristics\nCreating the MR Signal\nPrecession, Larmor Eq
 uation, Resonance\nTissue Characteristics\nRelaxation Times and Curves
 \nT1, T2, T2*, PD Contrast\nPatient Care and Safety\n\nDay 2\n\nPulse 
 sequence design\nT1-, T2-, T2*-, PD-weighted images\nSpin Echo\nGradie
 nt\nRecalled Echo, in and out of phase\nCoherent, incoherent\nInversio
 n Recovery\nSTIR, FLAIR\nFast Spin Echo, Fast Field Echo\nMR Angiograp
 hy\nFat Saturation, Fat Suppression\nArtifact Reduction\nSpatial Local
 ization\nGradient Design\nSpatial Encoding\nK Space, Data Acquisition\
 nImage Formation\nSampling Time\nSampling Rate: Sequence Parameters an
 d Options\nImage Quality\nImage Optimization\nContrast Discrimination\
 nSpatial Resolution\nSignal to Noise\n\nRecommended TextbookMagnetic R
 esonance Imaging Review by Wheeler Withers\nInstructor: Gregory Wheel
 er, BS, RT(R)(MR)\n\nFor more information visit https://community.radr
 ounds.com/events/mri-exam-review-1
DTSTART:20150919T120000Z
DTEND:20150920T210000Z
CATEGORIES:seminar
LOCATION:Advanced Health Education Center
WEBSITE:https://store.aheconline.com/index.php?route=product/product&f
 ilter_name=mri exam review&product_id=1614
URL:https://store.aheconline.com/index.php?route=product/product&filte
 r_name=mri exam review&product_id=1614
CONTACT:713-772-0157
ORGANIZER;CN="Larry Carney":https://community.radrounds.com/profile/La
 rryCarney
ATTACH;FMTTYPE="image/jpeg":
ATTENDEE;ROLE=REQ-PARTICIPANT;PARTSTAT=ACCEPTED;RSVP=TRUE;CN="Larry Ca
 rney":https://community.radrounds.com/profile/LarryCarney
END:VEVENT
END:VCALENDAR
