BEGIN:VCALENDAR
PRODID:NingEventWidget-v1
VERSION:2.0
METHOD:PUBLISH
BEGIN:VEVENT
UID:1791588:Event:191512
DTSTAMP:20260421T061802Z
SUMMARY:MRI Environmental Protection and Case Comparison to CT (Live W
 ebinar)
DESCRIPTION:Course Topics:\nMRI Enviromental Safety,, Brandy Willis Re
 ed, MBA, RT(R)(MR)  \n\nSafety Concerns\nEmergency Policies and Proc
 edures\n\nMRI Safety Requirements Update, Sonja K. Boiteaux, MSRS, RT(
 R)(MR), MRSO, CHC\n\nMRI Zones & Safety\nTraining Your Personnel\nRegu
 lation and Accrediting Requirements\n\nCase Comparison in CT and MRI, 
 Brandy Willis Reed, MBA, RT(R)(MR)\n\nCT & MRI: What’s the Differenc
 e?\nComparable Imaging\nCase Studies\n\nCourse Objectives\nAt the conc
 lusion of this course, participants should be able to:\n\nUnderstand M
 RI Safety Goals\nList differences in uses of CT and MRI\nIdentify diag
 nosis from a case study review\n Understand the ACR 4 Zone Guide as i
 t applies to MRI\nName the responsibilities of personnel authorized fo
 r Zone 4\n\n\nFor more information visit https://community.radrounds.c
 om/events/mri-environmental-protection-and-case-comparison-to-ct-live-
 4
DTSTART:20190722T210000Z
DTEND:20190723T003000Z
CATEGORIES:live, webinar
LOCATION:Advanced Health Education Center
WEBSITE:http://store.aheconline.com
URL:http://store.aheconline.com
CONTACT:1(800) 239-1361
ORGANIZER:AHEC
ATTACH;FMTTYPE="image/jpeg":
ATTENDEE;ROLE=REQ-PARTICIPANT;PARTSTAT=ACCEPTED;RSVP=TRUE;CN="Larry Ca
 rney":https://community.radrounds.com/profile/LarryCarney
END:VEVENT
END:VCALENDAR
